Workbook
Name AREA: #REF!
Name BAISHO: #REF!
Name HOKEN: #REF!
Name HPTYPE: #REF!
Name JIKANGAI: #REF!
Name PREF: #REF!
Name PREF2: #REF!
Name PREF3: #REF!
Name PREF4: #REF!
Name SMALL: #REF!
Name WAKU: #REF!

Sheet プログラム詳細
A1: 1. プログラム詳細
A3: ※グレー部分は自動入力（保護されているため入力いただけません）
A4: 1 | B4: 領域 | D4: 泌尿器科
A5: 2 | B5: 申請年度 | D5: 2028
A6: 3 | B6: 研修年限（年） | D6: 4
A7: 4 | B7: 認定番号
A8: 5 | B8: プログラム名称 ※例 「○○病院泌尿器科」
A9: 6 | B9: 基幹施設 | C9: 基幹施設名 | D9: =基幹!D7 -> 0
C10: 郵便番号 | D10: =基幹!D8 -> 0
C11: 都道府県 | D11: =基幹!D9 -> 0
C12: 郡市 | D12: =基幹!D10 -> 0
C13: 区町村 | D13: =基幹!D11 -> 0
C14: 町名・丁目・番地・号 | D14: =基幹!D12 -> 0
C15: 建物名等 | D15: =基幹!D13 -> 0
C16: 施設URL
A17: 7 | B17: 統括責任者 | C17: 姓（漢字）
C18: 名（漢字）
C19: 姓（カナ）
C20: 名（カナ）
C21: メールアドレス
C22: 役職
C23: 電話番号
C24: 取得学位 ※取得年月も記載
A25: 8 | B25: 連絡先担当 | C25: 姓（漢字）
C26: 名（漢字）
C27: 姓（カナ）
C28: 名（カナ）
C29: メールアドレス
A30: 9 | B30: 登録者 | C30: 姓（漢字）
C31: 名（漢字）
C32: 姓（カナ）
C33: 名（カナ）
C34: メールアドレス
C35: 役職
C36: 電話番号
C37: 内線
A38: 10 | B38: 事務担当 | C38: 姓（漢字）
C39: 名（漢字）
C40: 姓（カナ）
C41: 名（カナ）
...

Sheet 施設詳細
A1: 2. 施設詳細
A2: ※すべてグレー（自動入力）のため入力箇所はありません
B3: 該当シート名 | C3: 施設名称 | D3: 都道府県コード（2桁）- 医療機関コード （XX-XXXXXXX） | E3: 専門研修指導医数（按分後） | F3: 他に連携するプログラムの名称
F4: プログラム1 | G4: プログラム2 | H4: プログラム3 | I4: プログラム4 | J4: プログラム5 | K4: プログラム6 | L4: プログラム7 | M4: プログラム8 | N4: プログラム9
A5: 基幹施設 | B5: 基幹 | C5: =基幹!D7 -> 0 | D5: =基幹!D16 -> 0 | E5: =基幹!D17*基幹!D27*0.01 -> 0 | F5: =基幹!D28 -> 0 | G5: =基幹!D30 -> 0 | H5: =基幹!D32 -> 0 | I5: =基幹!D34 -> 0 | J5: =基幹!D36 -> 0 | K5: =基幹!D38 -> 0 | L5: =基幹!D40 -> 0 | M5: =基幹!D42 -> 0 | N5: =基幹!D44 -> 0
A6: 連携施設 | B6: 連携1 | C6: =連携1!D7 -> 0 | D6: =連携1!D16 -> 0 | E6: =連携1!D17*連携1!D27*0.01 -> 0 | F6: =連携1!D28 -> 0 | G6: =連携1!D30 -> 0 | H6: =連携1!D32 -> 0 | I6: =連携1!D34 -> 0 | J6: =連携1!D36 -> 0 | K6: =連携1!D38 -> 0 | L6: =連携1!D40 -> 0 | M6: =連携1!D42 -> 0 | N6: =連携1!D44 -> 0
B7: 連携2 | C7: =連携2!D7 -> 0 | D7: =連携2!D16 -> 0 | E7: =連携2!D17*連携2!D27*0.01 -> 0 | F7: =連携2!D28 -> 0 | G7: =連携2!D30 -> 0 | H7: =連携2!D32 -> 0 | I7: =連携2!D34 -> 0 | J7: =連携2!D36 -> 0 | K7: =連携2!D38 -> 0 | L7: =連携2!D40 -> 0 | M7: =連携2!D42 -> 0 | N7: =連携2!D44 -> 0
B8: 連携3 | C8: =連携3!D7 -> 0 | D8: =連携3!D16 -> 0 | E8: =連携3!D17*連携3!D27*0.01 -> 0 | F8: =連携3!D28 -> 0 | G8: =連携3!D30 -> 0 | H8: =連携3!D32 -> 0 | I8: =連携3!D34 -> 0 | J8: =連携3!D36 -> 0 | K8: =連携3!D38 -> 0 | L8: =連携3!D40 -> 0 | M8: =連携3!D42 -> 0 | N8: =連携3!D44 -> 0
B9: 連携4 | C9: =連携4!D7 -> 0 | D9: =連携4!D16 -> 0 | E9: =連携4!D17*連携4!D27*0.01 -> 0 | F9: =連携4!D28 -> 0 | G9: =連携4!D30 -> 0 | H9: =連携4!D32 -> 0 | I9: =連携4!D34 -> 0 | J9: =連携4!D36 -> 0 | K9: =連携4!D38 -> 0 | L9: =連携4!D40 -> 0 | M9: =連携4!D42 -> 0 | N9: =連携4!D44 -> 0
B10: 連携5 | C10: =連携5!D7 -> 0 | D10: =連携5!D16 -> 0 | E10: =連携5!D17*連携5!D27*0.01 -> 0 | F10: =連携5!D28 -> 0 | G10: =連携5!D30 -> 0 | H10: =連携5!D32 -> 0 | I10: =連携5!D34 -> 0 | J10: =連携5!D36 -> 0 | K10: =連携5!D38 -> 0 | L10: =連携5!D40 -> 0 | M10: =連携5!D42 -> 0 | N10: =連携5!D44 -> 0
B11: 連携6 | C11: =連携6!D7 -> 0 | D11: =連携6!D16 -> 0 | E11: =連携6!D17*連携6!D27*0.01 -> 0 | F11: =連携6!D28 -> 0 | G11: =連携6!D30 -> 0 | H11: =連携6!D32 -> 0 | I11: =連携6!D34 -> 0 | J11: =連携6!D36 -> 0 | K11: =連携6!D38 -> 0 | L11: =連携6!D40 -> 0 | M11: =連携6!D42 -> 0 | N11: =連携6!D44 -> 0
B12: 連携7 | C12: =連携7!D7 -> 0 | D12: =連携7!D16 -> 0 | E12: =連携7!D17*連携7!D27*0.01 -> 0 | F12: =連携7!D28 -> 0 | G12: =連携7!D30 -> 0 | H12: =連携7!D32 -> 0 | I12: =連携7!D34 -> 0 | J12: =連携7!D36 -> 0 | K12: =連携7!D38 -> 0 | L12: =連携7!D40 -> 0 | M12: =連携7!D42 -> 0 | N12: =連携7!D44 -> 0
B13: 連携8 | C13: =連携8!D7 -> 0 | D13: =連携8!D16 -> 0 | E13: =連携8!D17*連携8!D27*0.01 -> 0 | F13: =連携8!D28 -> 0 | G13: =連携8!D30 -> 0 | H13: =連携8!D32 -> 0 | I13: =連携8!D34 -> 0 | J13: =連携8!D36 -> 0 | K13: =連携8!D38 -> 0 | L13: =連携8!D40 -> 0 | M13: =連携8!D42 -> 0 | N13: =連携8!D44 -> 0
B14: 連携9 | C14: =連携9!D7 -> 0 | D14: =連携9!D16 -> 0 | E14: =連携9!D17*連携9!D27*0.01 -> 0 | F14: =連携9!D28 -> 0 | G14: =連携9!D30 -> 0 | H14: =連携9!D32 -> 0 | I14: =連携9!D34 -> 0 | J14: =連携9!D36 -> 0 | K14: =連携9!D38 -> 0 | L14: =連携9!D40 -> 0 | M14: =連携9!D42 -> 0 | N14: =連携9!D44 -> 0
B15: 連携10 | C15: =連携10!D7 -> 0 | D15: =連携10!D16 -> 0 | E15: =連携10!D17*連携10!D27*0.01 -> 0 | F15: =連携10!D28 -> 0 | G15: =連携10!D30 -> 0 | H15: =連携10!D32 -> 0 | I15: =連携10!D34 -> 0 | J15: =連携10!D36 -> 0 | K15: =連携10!D38 -> 0 | L15: =連携10!D40 -> 0 | M15: =連携10!D42 -> 0 | N15: =連携10!D44 -> 0
B16: 連携11 | C16: =連携11!D7 -> 0 | D16: =連携11!D16 -> 0 | E16: =連携11!D17*連携11!D27*0.01 -> 0 | F16: =連携11!D28 -> 0 | G16: =連携11!D30 -> 0 | H16: =連携11!D32 -> 0 | I16: =連携11!D34 -> 0 | J16: =連携11!D36 -> 0 | K16: =連携11!D38 -> 0 | L16: =連携11!D40 -> 0 | M16: =連携11!D42 -> 0 | N16: =連携11!D44 -> 0
B17: 連携12 | C17: =連携12!D7 -> 0 | D17: =連携12!D16 -> 0 | E17: =連携12!D17*連携12!D27*0.01 -> 0 | F17: =連携12!D28 -> 0 | G17: =連携12!D30 -> 0 | H17: =連携12!D32 -> 0 | I17: =連携12!D34 -> 0 | J17: =連携12!D36 -> 0 | K17: =連携12!D38 -> 0 | L17: =連携12!D40 -> 0 | M17: =連携12!D42 -> 0 | N17: =連携12!D44 -> 0
B18: 連携13 | C18: =連携13!D7 -> 0 | D18: =連携13!D16 -> 0 | E18: =連携13!D17*連携13!D27*0.01 -> 0 | F18: =連携13!D28 -> 0 | G18: =連携13!D30 -> 0 | H18: =連携13!D32 -> 0 | I18: =連携13!D34 -> 0 | J18: =連携13!D36 -> 0 | K18: =連携13!D38 -> 0 | L18: =連携13!D40 -> 0 | M18: =連携13!D42 -> 0 | N18: =連携13!D44 -> 0
B19: 連携14 | C19: =連携14!D7 -> 0 | D19: =連携14!D16 -> 0 | E19: =連携14!D17*連携14!D27*0.01 -> 0 | F19: =連携14!D28 -> 0 | G19: =連携14!D30 -> 0 | H19: =連携14!D32 -> 0 | I19: =連携14!D34 -> 0 | J19: =連携14!D36 -> 0 | K19: =連携14!D38 -> 0 | L19: =連携14!D40 -> 0 | M19: =連携14!D42 -> 0 | N19: =連携14!D44 -> 0
B20: 連携15 | C20: =連携15!D7 -> 0 | D20: =連携15!D16 -> 0 | E20: =連携15!D17*連携15!D27*0.01 -> 0 | F20: =連携15!D28 -> 0 | G20: =連携15!D30 -> 0 | H20: =連携15!D32 -> 0 | I20: =連携15!D34 -> 0 | J20: =連携15!D36 -> 0 | K20: =連携15!D38 -> 0 | L20: =連携15!D40 -> 0 | M20: =連携15!D42 -> 0 | N20: =連携15!D44 -> 0
B21: 連携16 | C21: =連携16!D7 -> 0 | D21: =連携16!D16 -> 0 | E21: =連携16!D17*連携16!D27*0.01 -> 0 | F21: =連携16!D28 -> 0 | G21: =連携16!D30 -> 0 | H21: =連携16!D32 -> 0 | I21: =連携16!D34 -> 0 | J21: =連携16!D36 -> 0 | K21: =連携16!D38 -> 0 | L21: =連携16!D40 -> 0 | M21: =連携16!D42 -> 0 | N21: =連携16!D44 -> 0
B22: 連携17 | C22: =連携17!D7 -> 0 | D22: =連携17!D16 -> 0 | E22: =連携17!D17*連携17!D27*0.01 -> 0 | F22: =連携17!D28 -> 0 | G22: =連携17!D30 -> 0 | H22: =連携17!D32 -> 0 | I22: =連携17!D34 -> 0 | J22: =連携17!D36 -> 0 | K22: =連携17!D38 -> 0 | L22: =連携17!D40 -> 0 | M22: =連携17!D42 -> 0 | N22: =連携17!D44 -> 0
B23: 連携18 | C23: =連携18!D7 -> 0 | D23: =連携18!D16 -> 0 | E23: =連携18!D17*連携18!D27*0.01 -> 0 | F23: =連携18!D28 -> 0 | G23: =連携18!D30 -> 0 | H23: =連携18!D32 -> 0 | I23: =連携18!D34 -> 0 | J23: =連携18!D36 -> 0 | K23: =連携18!D38 -> 0 | L23: =連携18!D40 -> 0 | M23: =連携18!D42 -> 0 | N23: =連携18!D44 -> 0
B24: 連携19 | C24: =連携19!D7 -> 0 | D24: =連携19!D16 -> 0 | E24: =連携19!D17*連携19!D27*0.01 -> 0 | F24: =連携19!D28 -> 0 | G24: =連携19!D30 -> 0 | H24: =連携19!D32 -> 0 | I24: =連携19!D34 -> 0 | J24: =連携19!D36 -> 0 | K24: =連携19!D38 -> 0 | L24: =連携19!D40 -> 0 | M24: =連携19!D42 -> 0 | N24: =連携19!D44 -> 0
B25: 連携20 | C25: =連携20!D7 -> 0 | D25: =連携20!D16 -> 0 | E25: =連携20!D17*連携20!D27*0.01 -> 0 | F25: =連携20!D28 -> 0 | G25: =連携20!D30 -> 0 | H25: =連携20!D32 -> 0 | I25: =連携20!D34 -> 0 | J25: =連携20!D36 -> 0 | K25: =連携20!D38 -> 0 | L25: =連携20!D40 -> 0 | M25: =連携20!D42 -> 0 | N25: =連携20!D44 -> 0
B26: 連携21 | C26: =連携21!D7 -> 0 | D26: =連携21!D16 -> 0 | E26: =連携21!D17*連携21!D27*0.01 -> 0 | F26: =連携21!D28 -> 0 | G26: =連携21!D30 -> 0 | H26: =連携21!D32 -> 0 | I26: =連携21!D34 -> 0 | J26: =連携21!D36 -> 0 | K26: =連携21!D38 -> 0 | L26: =連携21!D40 -> 0 | M26: =連携21!D42 -> 0 | N26: =連携21!D44 -> 0
B27: 連携22 | C27: =連携22!D7 -> 0 | D27: =連携22!D16 -> 0 | E27: =連携22!D17*連携22!D27*0.01 -> 0 | F27: =連携22!D28 -> 0 | G27: =連携22!D30 -> 0 | H27: =連携22!D32 -> 0 | I27: =連携22!D34 -> 0 | J27: =連携22!D36 -> 0 | K27: =連携22!D38 -> 0 | L27: =連携22!D40 -> 0 | M27: =連携22!D42 -> 0 | N27: =連携22!D44 -> 0
B28: 連携23 | C28: =連携23!D7 -> 0 | D28: =連携23!D16 -> 0 | E28: =連携23!D17*連携23!D27*0.01 -> 0 | F28: =連携23!D28 -> 0 | G28: =連携23!D30 -> 0 | H28: =連携23!D32 -> 0 | I28: =連携23!D34 -> 0 | J28: =連携23!D36 -> 0 | K28: =連携23!D38 -> 0 | L28: =連携23!D40 -> 0 | M28: =連携23!D42 -> 0 | N28: =連携23!D44 -> 0
B29: 連携24 | C29: =連携24!D7 -> 0 | D29: =連携24!D16 -> 0 | E29: =連携24!D17*連携24!D27*0.01 -> 0 | F29: =連携24!D28 -> 0 | G29: =連携24!D30 -> 0 | H29: =連携24!D32 -> 0 | I29: =連携24!D34 -> 0 | J29: =連携24!D36 -> 0 | K29: =連携24!D38 -> 0 | L29: =連携24!D40 -> 0 | M29: =連携24!D42 -> 0 | N29: =連携24!D44 -> 0
B30: 連携25 | C30: =連携25!D7 -> 0 | D30: =連携25!D16 -> 0 | E30: =連携25!D17*連携25!D27*0.01 -> 0 | F30: =連携25!D28 -> 0 | G30: =連携25!D30 -> 0 | H30: =連携25!D32 -> 0 | I30: =連携25!D34 -> 0 | J30: =連携25!D36 -> 0 | K30: =連携25!D38 -> 0 | L30: =連携25!D40 -> 0 | M30: =連携25!D42 -> 0 | N30: =連携25!D44 -> 0
B31: 連携26 | C31: =連携26!D7 -> 0 | D31: =連携26!D16 -> 0 | E31: =連携26!D17*連携26!D27*0.01 -> 0 | F31: =連携26!D28 -> 0 | G31: =連携26!D30 -> 0 | H31: =連携26!D32 -> 0 | I31: =連携26!D34 -> 0 | J31: =連携26!D36 -> 0 | K31: =連携26!D38 -> 0 | L31: =連携26!D40 -> 0 | M31: =連携26!D42 -> 0 | N31: =連携26!D44 -> 0
B32: 連携27 | C32: =連携27!D7 -> 0 | D32: =連携27!D16 -> 0 | E32: =連携27!D17*連携27!D27*0.01 -> 0 | F32: =連携27!D28 -> 0 | G32: =連携27!D30 -> 0 | H32: =連携27!D32 -> 0 | I32: =連携27!D34 -> 0 | J32: =連携27!D36 -> 0 | K32: =連携27!D38 -> 0 | L32: =連携27!D40 -> 0 | M32: =連携27!D42 -> 0 | N32: =連携27!D44 -> 0
B33: 連携28 | C33: =連携28!D7 -> 0 | D33: =連携28!D16 -> 0 | E33: =連携28!D17*連携28!D27*0.01 -> 0 | F33: =連携28!D28 -> 0 | G33: =連携28!D30 -> 0 | H33: =連携28!D32 -> 0 | I33: =連携28!D34 -> 0 | J33: =連携28!D36 -> 0 | K33: =連携28!D38 -> 0 | L33: =連携28!D40 -> 0 | M33: =連携28!D42 -> 0 | N33: =連携28!D44 -> 0
B34: 連携29 | C34: =連携29!D7 -> 0 | D34: =連携29!D16 -> 0 | E34: =連携29!D17*連携29!D27*0.01 -> 0 | F34: =連携29!D28 -> 0 | G34: =連携29!D30 -> 0 | H34: =連携29!D32 -> 0 | I34: =連携29!D34 -> 0 | J34: =連携29!D36 -> 0 | K34: =連携29!D38 -> 0 | L34: =連携29!D40 -> 0 | M34: =連携29!D42 -> 0 | N34: =連携29!D44 -> 0
B35: 連携30 | C35: =連携30!D7 -> 0 | D35: =連携30!D16 -> 0 | E35: =連携30!D17*連携30!D27*0.01 -> 0 | F35: =連携30!D28 -> 0 | G35: =連携30!D30 -> 0 | H35: =連携30!D32 -> 0 | I35: =連携30!D34 -> 0 | J35: =連携30!D36 -> 0 | K35: =連携30!D38 -> 0 | L35: =連携30!D40 -> 0 | M35: =連携30!D42 -> 0 | N35: =連携30!D44 -> 0
B36: 連携31 | C36: =連携31!D7 -> 0 | D36: =連携31!D16 -> 0 | E36: =連携31!D17*連携31!D27*0.01 -> 0 | F36: =連携31!D28 -> 0 | G36: =連携31!D30 -> 0 | H36: =連携31!D32 -> 0 | I36: =連携31!D34 -> 0 | J36: =連携31!D36 -> 0 | K36: =連携31!D38 -> 0 | L36: =連携31!D40 -> 0 | M36: =連携31!D42 -> 0 | N36: =連携31!D44 -> 0
B37: 連携32 | C37: =連携32!D7 -> 0 | D37: =連携32!D16 -> 0 | E37: =連携32!D17*連携32!D27*0.01 -> 0 | F37: =連携32!D28 -> 0 | G37: =連携32!D30 -> 0 | H37: =連携32!D32 -> 0 | I37: =連携32!D34 -> 0 | J37: =連携32!D36 -> 0 | K37: =連携32!D38 -> 0 | L37: =連携32!D40 -> 0 | M37: =連携32!D42 -> 0 | N37: =連携32!D44 -> 0
B38: 連携33 | C38: =連携33!D7 -> 0 | D38: =連携33!D16 -> 0 | E38: =連携33!D17*連携33!D27*0.01 -> 0 | F38: =連携33!D28 -> 0 | G38: =連携33!D30 -> 0 | H38: =連携33!D32 -> 0 | I38: =連携33!D34 -> 0 | J38: =連携33!D36 -> 0 | K38: =連携33!D38 -> 0 | L38: =連携33!D40 -> 0 | M38: =連携33!D42 -> 0 | N38: =連携33!D44 -> 0
B39: 連携34 | C39: =連携34!D7 -> 0 | D39: =連携34!D16 -> 0 | E39: =連携34!D17*連携34!D27*0.01 -> 0 | F39: =連携34!D28 -> 0 | G39: =連携34!D30 -> 0 | H39: =連携34!D32 -> 0 | I39: =連携34!D34 -> 0 | J39: =連携34!D36 -> 0 | K39: =連携34!D38 -> 0 | L39: =連携34!D40 -> 0 | M39: =連携34!D42 -> 0 | N39: =連携34!D44 -> 0
B40: 連携35 | C40: =連携35!D7 -> 0 | D40: =連携35!D16 -> 0 | E40: =連携35!D17*連携35!D27*0.01 -> 0 | F40: =連携35!D28 -> 0 | G40: =連携35!D30 -> 0 | H40: =連携35!D32 -> 0 | I40: =連携35!D34 -> 0 | J40: =連携35!D36 -> 0 | K40: =連携35!D38 -> 0 | L40: =連携35!D40 -> 0 | M40: =連携35!D42 -> 0 | N40: =連携35!D44 -> 0
...

Sheet 冊子情報
A1: 3. 冊子情報
A3: ・ | B3: プログラム冊子（Word）にもある項目については、プログラム冊子の該当箇所をコピーして貼り付けてください。項目のセルに、コメント機能でプログラム冊子の該当箇所を記載しています。
A5: 1 | B5: 専門研修プログラムの概要 | I5: (1) 泌尿器科専門研修プログラムの目的 泌尿器科専門医制度は、医の倫理に基づいた医療の実践を体得し、高度の泌尿器科専門知識と技能とともに地域医療にも対応できる総合的診療に必要な基本的臨床能力を修得した泌尿器科専門医の育成を図り、国民の健康増進、医療の向上に貢献することを目的とします。特に、本プログラムは、基幹施設である●●大学附属病院において高度な医療に携わり本邦の標準治療や先進的な医療を経験し学ぶとともに、地域医療を担う連携病院での研修を経て●●県の医療事情を理解し、将来は泌尿器科専門医として●●県全域を支える人材の育成を行う理念に基づいています。
I6: (2) 泌尿器科専門医の使命 泌尿器科専門医は小児から成人に至る様々な泌尿器疾患、ならびに我が国の高齢化に伴い増加が予想される排尿障害、尿路性器悪性腫瘍、慢性腎疾患などに対する専門的知識と診療技能を持ちつつ、高齢者に多い一般的な併存疾患にも独自で対応でき、必要に応じて地域医療との連携や他の専門医への紹介・転送の判断も的確に行える能力を備えた医師です。泌尿器科専門医はこれらの診療を実践し、総合的診療能力も兼ね備えることによって社会に対する責務を果たし、地域医療にも配慮した国民の健康・福祉の増進に貢献します。
A7: 2 | B7: 専門研修はどのようにおこなわれるのか | I7: 泌尿器科専門医は2年間の初期臨床研修が終了し、後期研修が開始した段階から開始され4年間の研修で育成されます。4年間のうち基本的には研修基幹施設で2年間の研修を行い、それ以外の2年間を研修連携施設で研修することになります。●●大学泌尿器科研修プログラムでは研修終了後も泌尿器科臨床を継続する臨床修練コース、希望があれば研修4年目から大学院に進学可能な大学院進学コース、●●大学県民医療枠および地域医療枠を卒業し地域医療での義務年限を前提とした県民医療枠および地域医療枠コースの4つから選択することが可能です。
A8: 3 | B8: 専攻医の到達目標 | C8: 3-1 修得すべき知識・技能・態度など | I8: 専門研修では、それぞれ医師に求められる基本的診療能力・態度（コアコンピテンシー）と日本泌尿器科学会が定める「泌尿器科専門研修プログラム基準 専攻医研修マニュアル」にもとづいて泌尿器科専門医に求められる知識・技術の修得目標を設定し、その年度の終わりに達成度を評価して、基本から応用へ、さらに専門医として独立して実践できるまで着実に実力をつけていくように配慮します。具体的な評価方法は後の項目で示します。
I9: ① 専門知識 泌尿器科領域では発生学・局所解剖・生殖生理・感染症・腎生理学・内分泌学の６領域での包括的な知識を獲得する。詳細は専攻医研修マニュアルの「個別目標 １．泌尿器科専門知識」（15～16頁）を参照して下さい。
I10: ② 専門技能 泌尿器科領域では、鑑別診断のための各種症状・徴候の判断、診察法・検査の習熟と臨床応用、手術適応の決定や手技の習得と周術期の管理、を実践するための技能を獲得します。詳細は専攻医研修マニュアルの「個別目標 ２．泌尿器科専門技能：診察・検査・診断・処置・手術」（16～18頁）を参照して下さい。
I11: ③ 経験すべき疾患・病態の目標 泌尿器科領域では、腎・尿路・男性生殖器ならびに関連臓器に関する、先天異常、外傷・損傷、良性・悪性腫瘍、尿路結石症、内分泌疾患、男性不妊症、性機能障害、感染症、下部尿路機能障害、女性泌尿器疾患、神経性疾患、慢性・急性腎不全、小児泌尿器疾患などの疾患について経験します。詳細は専攻医研修マニュアルの「(1)経験すべき疾患・病態」（20～22頁）を参照して下さい。
I12: ④ 経験すべき診察・検査 泌尿器科領域では、内視鏡検査、超音波検査、ウロダイナミックス、前立腺生検、各種画像検査などについて、実施あるいは指示し、結果を評価・判定することを経験します。詳細は専攻医研修マニュアルの「(2)経験すべき診察・検査等」（23頁）を参照して下さい。
I13: ⑤ 経験すべき手術・処置 泌尿器科領域では、経験すべき手術件数は以下のとおりとします。
I14: A. 一般的な手術に関する項目 下記の４領域において、術者として経験すべき症例数が各領域5例以上（「副腎、腎、後腹膜の手術」のみ 3 例以上）かつ合計50例以上であること。 ・副腎、腎、後腹膜の手術 ・尿管、膀胱の手術 ・前立腺、尿道の手術 ・陰嚢内容臓器、陰茎の手術
I15: B. 専門的な手術に関する項目 下記の７領域において、術者あるいは助手として経験すべき症例数が1領域10例以上を最低2領域かつ合計30例以上であること。 ・腎移植・透析関連の手術 ・小児泌尿器関連の手術 ・女性泌尿器関連の手術 ・ED、不妊関連の手術 ・結石関連の手術 ・神経泌尿器・臓器再建関連の手術 ・腹腔鏡・腹腔鏡下小切開・ロボット支援関連の手術 詳細は専攻医研修マニュアルの「③研修修了に必要な手術要件」（24～26頁）を参照して下さい。
I16: C. 全身管理 入院患者に関して術前術後の全身管理と対応を行います。詳細については研修医マニュアルの「B. 全身管理」（17〜18頁）を参照して下さい。
I17: D. 処置 泌尿器科に特有な処置として以下のものを経験します。 1) 膀胱タンポナーデ ・凝血塊除去術 ・経尿道的膀胱凝固術 2) 急性尿閉 ・経皮的膀胱瘻造設術 3) 急性腎不全 ・急性血液浄化法 ・double-Jカテーテル留置 ・経皮的腎瘻造設術
C18: 3-2 各種カンファレンスなどによる知識・技能の習得 | I18: (1) 基幹施設でのカンファレンス 基幹施設においては週3回の臨床に関わるカンファレンスと週1回の抄読会を定期的に開催しています。それ以外に病理部との症例カンファレンスを1ヶ月に1回実施しています。また医療安全部と感染制御部が主催する講習会が月1回程度開催されています。連携施設でのカンファレンスに関してはそれぞれの施設により開催形態は異なります。以下に基幹施設におけるカンファレンスの内容を示します。 月曜、水曜、金曜の7時30分から9時までは症例検討会を実施しています。この中で手術症例に関しては術前の評価および術式の詳細に関して検討を行います。手術施行後には手術記録を全員で閲覧し記載内容に誤りがないか、また問題があった場合には原因および対処法に関して全員で検討を加えます。必要に応じて術中のビデオを供覧し参加者全体での情報共有を行うようにしています。入院および外来患者の治療方針に関して主治医が検討が必要と判断した症例に関して症例提示を行い、全員で治療方針に関して討論します。また退院サマリーに関しても全員で閲覧し記載内容が問題点に対し推敲を重ねています。 月曜の17時からは医局での抄読会を開催しています。自分が興味をもったテーマに関して複数の英語原著論文を精読し参加者全員にわかりやすいようにプレゼンテーションを行います。また執筆中の論文に関して疑問を抱いた点についても適宜プレゼンテーションを行い、全員で問題解決を図るようにしています。 定期的に病理部との合同カンファレンスを開催し、特に手術症例に関して臨床的および病理学的な側面から問題点を出し合い検討しています。
I19: (2) プログラム全体でのカンファレンス 専門研修プ口グラム管理委員会が年1回開催されますのでそれに引き続いた全体でのカンファレンスを開催します。全体でのカンファレンスでは問題症例の提示や各施設において積極的に取り組んでいる治療の紹介、学会や文献検索で得られた最新の知識のレビュー等を発表してもらいます。
C20: 3-3 学問的姿勢 | I20: 専攻医は、医学・医療の進歩に遅れることなく、常に研鑽、自己学習することが求められます。患者の日常的診療から浮かび上がるクリニカルクエスチョンについては診療ガイドラインや文献検索（医学中央雑誌、PubMed、UpToDate）を通じてEBMを実践することを学んで下さい。またプログラム全体でのカンファレンス等にて症例のプレゼンテーションを行い実践した治療法に対して多くの方と吟味することも重要です。また今日のエビデンスでは解決し得ない問題については臨床研究に自ら参加、もしくは企画する事で解決しようとする姿勢を身につけるようにしてください。学会に積極的に参加し、基礎的あるいは臨床的研究成果を発表してください。得られた成果は論文として発表して、公に広めると共に批評を受ける姿勢を身につけてください。 本プログラムにおいては以下の要件を満たす必要があります。  学会での発表：日本泌尿器科学会が示す学会において筆頭演者として2回以上の発表を行います。  論文発表：査読制を敷いている医学雑誌へ筆頭著者の場合は1編以上、共著者の場合は2編以上の論文を掲載します。  研究参画：基幹施設における臨床研究への参画を1件以上行います。
C21: 3-4 医師に必要なコアコンピテンシー、倫理性、社会性 | I21: 医師として求められる基本的診療能力（コアコンピテンシー）には患者—医師関係、医療安全、倫理性、社会性などが含まれています。内容を具体的に示します。
I22: ① 患者—医師関係 医療専門家である医師と患者を含む社会との契約を十分に理解し、患者、家族から信頼される知識・技能および態度を身につけます。医師、患者、家族がともに納得できる医療を行うためのインフォームドコンセントを実施します。守秘義務を果たしプライバシーへの配慮をします。
I23: ② 安全管理（リスクマネージメント） 医療安全の重要性を理解し事故防止、事故後の対応がマニュアルに沿って実践します。院内感染対策を理解し、実施します。個人情報保護についての考え方を理解し実施します。
I24: ③チーム医療 チーム医療の必要性を理解しチームのリーダーとして活動します。指導医や専門医に適切なタイミングでコンサルテーションができます。他のメディカルスタッフと協調して診療にあたします。後輩医師に教育的配慮をします。
I25: ④社会性 保健医療や主たる医療法規を理解し、遵守します。健康保険制度を理解し保健医療をメディカルスタッフと協調し実践します。医師法・医療法、健康保険法、国民健康保険法、老人保健法を理解する。診断書、証明書を記載します。
I26: コアコンピテンシー（医療安全、医療倫理、感染対策）に関しては日本泌尿器科学会総会、各地区総会で卒後教育プログラムとして開催されていますので積極的にこれらのプログラムを受講するようにして下さい。また基幹施設である●●大学では医療安全部や感染制御部が主催する講習会が定期的に開催されていますのでこれらの講習会に関しても積極的に参加するよう心がけて下さい。
A27: 4 | B27: 施設群による研修プログラムと 地域医療についての考え方 | C27: 4-1 年次毎の研修計画 | I27: 専攻医の研修は毎年の達成目標と達成度を評価しながら進められます。以下に年次毎の研修内容・習得目標の目安を示します。
I28: ① 専門研修1年目 専門研修1年目では基本的診療能力および泌尿器科的基本的知識と技能の習得を目標とします。原則として研修基幹施設である●●大学付属病院での研修になります。指導医は日々の臨床を通して専攻医の知識・技能の習得を指導します。専攻医は学会・研究会への参加、e-learningなどを通して自らも専門知識・技能の習得を図ります。
I29: 【1年次研修病院】 ●●大学附属病院
I30: 【専攻医の研修内容】 • 泌尿器科専門知識として発生学、局所解剖、生殖生理、感染症、腎生理学、内分泌学を学ぶ。 • 診察：外来および入院患者の病歴聴取から症状を把握し鑑別診断から診断にいたるまでのプロセスを習得する（具体的な症状に関しては専攻医研修マニュアルの16ページを参照）。 • 検査：腹部診察と超音波画像検査、検尿、前立腺、精巣の触診が自ら行うことができる。尿道膀胱鏡検査と尿管カテーテル法、ウロダイナミックス（尿流測定、膀胱内圧測定）、各種生検法（前立腺、膀胱、精巣）、X線検査（KUB、DIP、膀胱造影、尿道造影）が自ら行うことができる • 手術：疾患および各患者の医学的背景に応じて適切な手術方法を選択することができる。診療科でのカンファレンスでプレゼンテーションを行うことができる。患者および家族に手術に関する説明を行うことができる。施行された術式に関しては詳細な手術記録を記載し術後のカンファレンスでプレゼンテーションを行う。研修終了に必要な手術術式および件数に関しては専攻医研修マニュアルの24ページを参照する。 • 基本的診療能力（コアコンピテンシー）：良好な医師患者関係を築くことができる。医療安全、医療倫理、感染対策に関する考え方を身につける。チーム医療の重要性を理解する。 • 学術活動：日本泌尿器科学会総会、地区総会、地方会へ積極的に参加する。学会主催の卒後教育プログラムを受講する。
I31: 【執刀手術】 術者として 20 経尿道的膀胱腫瘍切除術、前立腺切除術 5 陰嚢手術（陰嚢水腫根治術、精巣固定術、去勢術） 5 ESWL 5 助手として PNL、TUL 10 開腹手術（腎、前立腺、膀胱） 15 腹腔鏡手術（腎、前立腺、膀胱） 15
I32: ② 専門研修2-3年目 専門研修の2-3年目は基本的には研修連携施設での研修となります。大学病院では経験しづらい一般的な泌尿器科疾患は泌尿器科処置あるいは手術について重点的に学んで下さい。
I33: 【2-3年次研修病院】 連携施設（診療拠点病院）
I34: 【専攻医の研修内容】 • 1年次に習得した泌尿器科専門知識をさらに発展させ、臨床効用ができる。 • 検査：以下の検査に関して指示、依頼を行い、または指導医のもとで実施し、自ら結果を判定または評価することができる。内分泌学的検査（下垂体、副腎、精巣、副甲状腺）、精液検査、ウロダイナミックス（プレッシャーフロースタディー）、腎生検、腎盂尿管鏡検査、X線検査（逆行性腎盂造影、順行性腎盂造影、血管造影、CTなど）、核医学検査（PET、レノグラム、腎シンチ、骨シンチ、副腎シンチ、上皮小体シンチ）、腎機能検査（クレアチニンクリアランス、分腎機能検査なと）、MRI検査 • 手術：泌尿器科的処置として膀胱タンポナーデに対する凝血塊除去や毛尿道的膀胱凝固術、急性尿閉に対する経皮的膀胱瘻造設術、急性腎不全に対する急性血液浄化法、double Jカテーテル留置、経皮的腎臓造設術を行うことができる。また研修先の診療拠点病院の専門としている手術に関しては上級医の指導のもとさらに積極的に手術に関与することを目標とする。 • 基本的診療能力（コアコンピテンシー）：良好な医師患者関係を築くことができる。実際の診療およびチーム医療の一員として泌尿器科診療能力をさらに向上させる。同僚および後輩へ教育的配慮ができる。 • 学術活動：学会において症例報告を行う。臨床研究の重要性や手法について理解する。
I35: 【執刀手術（年間例数】 術者として 20 経尿道的膀胱腫瘍切除術、前立腺切除術 5 陰嚢手術（陰嚢水腫根治術、精巣固定術、去勢術） 5 ESWL 5 TUL 10 腎瘻造設術 3 腎摘除術 2 膀胱全摘除術 2 尿管皮膚瘻造設術 2 前立腺全摘除術 5 膀胱瘻造設術 2 助手として PNL 5 腹腔鏡下手術のスコピスト 10
I36: ③ 専門研修4年目 専門研修の4年目は研修基幹施設に戻っての研修となります。泌尿器科の実践的知識・技能の習得により様々な泌尿器科疾患へ対応する力量を養うことを目標とします。また将来的にサブスペシャリティーとなる分野を見通した研修も開始するようにして下さい。
I37: 【4年次研修病院】 連携施設（診療拠点病院）もしくは●●大学付属病院
I38: 【専攻医の研修内容】 • 2-3年次に習得した泌尿器科専門知識および泌尿器科専門技能をさらに発展させ、臨床効用ができる。 • 4年次は再度大学病院での研修を行う。2-3年目での連携病院における一般的泌尿器疾患に対する経験をもとにさらに専門性の高いあるいは複雑な症例に対するマネージメントを習得する。特に●●大学泌尿器科では尿路結石に対する手術と尿路生殖器悪性腫瘍に対する腹腔鏡下、ロボット支援手術を多数行っているためこれらの手術に対する経験を深める。さらに腎移植術も年間5-10例程度行っているため腎移植に関する研修を希望する場合にはこれらの手術を重点的に経験してもらうことができる。 • 将来的にサブスペシャリティーとする分野に関し積極的に症例に取り組むとともに学会やインターネットを通じてより高度で専門的な内容を見につける。 • 基本的診療能力（コアコンピテンシー）：良好な医師患者関係を築くことができる。チーム医療において責任をもってリーダーシップを発揮できる。医療安全や院内感染対策の診療科担当者をサポートできる。 • 学術活動：臨床研究を行い自ら学会発表、論文発表を行う。
I39: 【執刀手術】 術者として 20 経尿道的膀胱腫瘍切除術、前立腺切除術 5 陰嚢手術（陰嚢水腫根治術、精巣固定術、去勢術） 5 ESWL 5 TUL 10 腎瘻造設術 3 腎摘除術 2 膀胱全摘除術 2 尿管皮膚瘻造設術 2 前立腺全摘除術 5 膀胱瘻造設術 2 助手として PNL 5 腹腔鏡下手術のスコピスト 10 ロボット支援手術における第二助手 10
C40: 4-2 研修施設群と研修プログラム | I40: (1) 専門研修基幹施設の認定基準 泌尿器科専門研修プログラム整備基準では専門研修基幹施設の認定基準を以下のように定めています。  専門研修プログラムを管理し、当該プログラムに参加する専攻医および専門研修連携施設を統括する。  初期臨床研修の基幹型臨床研修病院の指定基準（十分な指導医数、図書館設置、CPCなどの定期開催など）を満たす教育病院としての水準が保証されている。  日本泌尿器科学会拠点教育施設である。  全身麻酔・硬膜外麻酔・腰椎麻酔で行う泌尿器科手術が年間100件以上である。  泌尿器科指導医が1名以上常勤医師として在籍している。  認定は日本泌尿器科学会の専門研修委員会が定める専門研修基幹施設の認定基準に従い、日本泌尿器科学会の専門研修委員会が行う。  研修内容に関する監査・調査に対応出来る体制を備えていること。  施設実地調査(サイトビジット)による評価に対応できる。 本プログラムの研修基幹施設である●●大学附属病院は以上の要件を全てみたしています。実際の診療実績に関しては別添資料を参照して下さい。
I41: (2) 専門研修連携施設の認定基準 泌尿器科専門研修プログラム整備基準では専門研修連携施設の認定基準を以下のように定めています。  専門性および地域性から当該専門研修プログラムで必要とされる施設であること。  研修連携施設は専門研修基幹施設が定めた専門研修プログラムに協力して専攻医に専門研修を提供する。  日本泌尿器科学会拠点教育施設あるいは関連教育施設である。  認定は日本泌尿器科学会の専門研修委員会が定める専門研修連携施設の認定基準に従い、日本泌尿器科学会の専門研修委員会が行う。 ●●大学泌尿器科研修プログラムに属する研修連携施設は12ありますが、すべての施設において泌尿器科指導医が常勤しています。この中でも日本泌尿器科学会の拠点教育施設を満たす診療拠点病院（A病院、B病院、C医療センター、D病院、E病院、F医療センター、G病院、H医療センター）と教育関連施設として位置づけられる地域中核病院（I病院、J病院、K病院、L病院）の二つに大別されます。これらの病院群は上記の認定基準をみたしています。各施設の指導医数、特色、診療実績等を別紙7に示していますので参照して下さい。
C42: 4-3 地域医療について | I42: ●●大学泌尿器科専門研修プログラムは地域の泌尿器科医療を守ることを念頭においたプログラムです。専門研修期間中に大都市圏以外の医療圏にある研修連携施設において研修し、周辺の医療施設との病診・病病連携の実際を経験することは大変重要なことです。 ●●大学泌尿器科研修プログラムに属する連携研修施設は12ありますが、すべての施設において泌尿器科指導医が常勤しています。この中でも日本泌尿器科学会の拠点教育施設を満たす診療拠点病院（A病院、B病院、C医療センター、D病院、E病院、F医療センター、D病院、E医療センター）と教育関連施設として位置づけられる地域中核病院（F病院、G病院、H病院、I病院）の二つに大別されます。泌尿器科が常勤していない地域中小病院や診療所へは近隣の研修施設から外来診療のみを派遣で行っています。専門医研修の期間中は臨床経験を豊富にこなす必要がある観点から基本的には上記の診療拠点病院での研修を基本としますが、同時に地域中核病院や泌尿器科の常勤のいない地域中小病院へ定期的に出向し地域医療の現状についても理解を深めて下さい。  3年次以降の研修において地域中核病院あるいは泌尿器科が常勤していない地域中小病院や診療所で週1回の外来診療を行います。  3年次以降の研修において周辺の関連施設に出向き、初期対応としての疾病の診断を行い、また予防医療の観点から地域住民の健康指導を行い、自立して責任をもって医師として行動します。  また必要に応じて他の診療拠点病院での手術の応援を非定期に行います。 また地域においての指導の質を保証するため以下の項目を実践します。  研修プログラムで研修する専攻医を集めての講演会やhands-on-seminarなどを開催し、教育内容の共通化を図ります。  専門研修指導医の訪問による専攻医指導の機会を設けます。
...

Sheet 施設群
A1: 4. 施設群 診療実績
A3: (1) | B3: 代表的な泌尿器科疾患数
A5: ・ | B5: 1年あたりの症例数の概数を記入して下さい。
A6: ・ | B6: 基幹施設と連携施設で記載したA,B,C,Dについて、
B7: A=25、B=15、C=5として施設群に含まれるすべての施設の症例数を合計し、概数としてください。
A8: ・ | B8: 連携施設の中で複数のプログラムに参加する施設がある場合は症例数に関し配分した後の数も記載してもらっています。施設群における診療実績を記載するにあたっては必ず配分後の症例数を合算するようにお願いいたします。
B9: 疾患名 | D9: 症例数
A10: 1 | B10: 単純性嚢胞 | D10: 選択
A11: 2 | B11: 多発性嚢胞腎 | D11: 選択
A12: 3 | B12: 重複腎盂尿管 | D12: 選択
A13: 4 | B13: 膀胱尿管逆流症 | D13: 選択
A14: 5 | B14: 停留精巣 | D14: 選択
A15: 6 | B15: 包茎 | D15: 選択
A16: 7 | B16: 尿道損傷 | D16: 選択
A17: 8 | B17: 腎細胞癌 | D17: 選択
A18: 9 | B18: 腎盂・尿管癌 | D18: 選択
A19: 10 | B19: 膀胱癌 | D19: 選択
A20: 11 | B20: 前立腺肥大症 | D20: 選択
A21: 12 | B21: 前立腺癌 | D21: 選択
... A43: 34 | B43: 性機能障害 | D43: 選択
A45: (2) | B45: 代表的な泌尿器科検査・手技の数
A47: ・ | B47: 1年あたりの症例数の概数を記入して下さい。
A48: ・ | B48: 基幹施設と連携施設で記載したA,B,C,Dについて、
B49: A=25、B=15、C=5として施設群に含まれるすべての施設の症例数を合計し、概数としてください。
A50: ・ | B50: 連携施設の中で複数のプログラムに参加する施設がある場合は症例数に関し配分した後の数も記載してもらっています。施設群における診療実績を記載するにあたっては必ず配分後の症例数を合算するようにお願いいたします。
B51: 検査・手技 | D51: 症例数
A52: 1 | B52: 尿道膀胱鏡検査 | D52: 選択
A53: 2 | B53: 尿管カテーテル法 | D53: 選択
A54: 3 | B54: 超音波画像診断法（腎、前立腺、膀胱、陰嚢内容など） | D54: 選択
A55: 4 | B55: ウロダイナミックス（尿流測定、膀胱内圧測定など） | D55: 選択
A56: 5 | B56: 前立腺生検 | D56: 選択
A57: 6 | B57: X線検査（KUB、IVP、DIP、膀胱造影、尿道造影） | D57: 選択
A58: 7 | B58: 検尿（細菌学的） | D58: 選択
A59: 8 | B59: 内分泌検査（下垂体、副腎、精巣、上皮小体検査） | D59: 選択
A60: 9 | B60: 精液検査 | D60: 選択
A61: 10 | B61: ウロダイナミックス（プレッシャーフロースタディ） | D61: 選択
A62: 11 | B62: 腎生検 | D62: 選択
A63: 12 | B63: 腎盂尿管鏡 | D63: 選択
... A67: 16 | B67: MRI検査 | D67: 選択
A69: (3) | B69: 泌尿器科手術数（自動計算）
...

Sheet 定員計算
A1: 5. 専攻医募集定員計算シート
A3: 当プログラムとして新規募集する専攻医の希望数
A4: 下記「(A) 専門研修指導医数から算出される専攻医受入上限数」と「(B) 診療実績から算出される専攻医受入上限数」のうち、少ない数をもとに、それ以下の人数を記入してください。
A6: 希望数 （人）（半角数字のみ）
A8: (A) 専門研修指導医数から算出される専攻医受入上限数（自動計算）
A9: (1) プログラム全体の指導医数（按分後） | C9: =施設詳細!E76 -> 0
A10: (2) プログラム全体の専攻医受入可能数 | C10: =C9*2 -> 0
A11: (3) プログラム全体の年間の専攻医募受入上限数 (A) | C11: =C10/4 -> 0
A12: ※ | B12: (2)は、(1)×2の人数
A13: ※ | B13: (3)は、(2)/4年間の人数
A15: (B) 診療実績から算出される専攻医受入上限数（自動計算）
A16: (a) プログラム全体の手術数と基幹施設の所在地
A17: プログラム全体の過去3年間の手術数（按分後） | C17: =施設群!D116 -> 0
A18: 基幹施設の所在地（都道府県） | C18: =基幹!D9 -> 0
A19: 基幹施設の所在地（郡市） | C19: =基幹!D10 -> 0
A20: 基幹施設の所在地（都市部またはその他） | C20: =IF(OR(C18="東京都",C19="札幌市",C19="横浜市",C19="名古屋市",C19="京都市",C19="大阪市",C19="神戸市",C19="福岡市"),"都市部","その他") -> その他
A21: 都市部…札幌市、東京都、横浜市、名古屋市、京都市、大阪市、神戸市、福岡市
A22: その他…上記以外
A24: (b) (a)から算出される受入上限数
A25: 該当する「募集数」が、「(B) プログラム全体での受入上限数」による受入上限になります。
A26: プログラム全体の過去3年間の手術数（按分後） | C26: 地域 | D26: 募集数(B) | E26: 該当チェック
A27: 8000件以上 | C27: 都市部 | D27: 10名 | E27: =IF(AND(C17>=8000,C20="都市部"),"○","×") -> ×
A28: 5000件以上 8000件未満 | C28: 都市部 | D28: 7～9名 | E28: =IF(AND(C17>=5000,C17<=7999,C20="都市部"),"○","×") -> ×
A29: 2000件以上 5000件未満 | C29: 都市部 | D29: 4～6名 | E29: =IF(AND(C17>=2000,C17<=4999,C20="都市部"),"○","×") -> ×
A30: 1000件以上 2000件未満 | C30: 都市部 | D30: 2～3名 | E30: =IF(AND(C17>=1000,C17<=1999,C20="都市部"),"○","×") -> ×
A31: 5000件以上 | C31: その他 | D31: 8名 | E31: =IF(AND(C17>=5000,C20="その他"),"○","×") -> ×
A32: 2000件以上 5000件未満 | C32: その他 | D32: 5～7名 | E32: =IF(AND(C17>=2000,C17<=4999,C20="その他"),"○","×") -> ×
A33: 1000件以上 2000件未満 | C33: その他 | D33: 3～4名 | E33: =IF(AND(C17>=1000,C17<=1999,C20="その他"),"○","×") -> ×

Sheet 基幹
A1: 基幹施設 概要と診療実績
A3: ※グレー部分は自動入力
A4: ※G列・H列は保護されているため入力いただけません（コピーペースト含む）
A6: (1) | B6: 施設の概要
A7: 1 | B7: 施設名
A8: 2 | B8: 所在地 | C8: 郵便番号
C9: 都道府県
C10: 郡市
C11: 区町村
C12: 町名・丁目・番地・号
C13: 建物名等
C14: 電話
C15: FAX
A16: 3 | B16: 都道府県コード（2桁）-医療機関コード （XX-XXXXXXX）
A17: 4 | B17: 専門研修指導医の数 ※
A18: ※専門研修指導医
A19: 泌尿器科学会指導医は自動的に専門研修指導医の基準を満たします。
A21: (2) | B21: プログラム参加数
A23: ・ | B23: 当該施設が複数のプログラムに参加する場合は、診療実績に関して本プログラムへ何%振り分けるかを決める必要があります。
B24: 按分については、連携する各プログラムに確認のうえ決定してください。
A25: ・ | B25: 按分は最低10%、5%刻みとしてください。
A26: ・ | B26: 本プログラムおよび本プログラム以外の合計が100%になる必要があります。
A27: 1 | B27: 本プログラムへの症例数の配分割合（％） | D27: 0
A28: 2 | B28: 【本プログラム以外に参加するプログラムがある場合のみ】 | C28: (1) プログラム名
B29: 本プログラム以外の参加プログラム名および症例配分割合 | C29: 症例配分割合（％） | D29: 0
C30: (2) プログラム名
C31: 症例配分割合（％） | D31: 0
C32: (3) プログラム名
C33: 症例配分割合（％） | D33: 0
C34: (4) プログラム名
C35: 症例配分割合（％） | D35: 0
C36: (5) プログラム名
C37: 症例配分割合（％） | D37: 0
C38: (6) プログラム名
C39: 症例配分割合（％） | D39: 0
C40: (7) プログラム名
C41: 症例配分割合（％） | D41: 0
C42: (8) プログラム名
C43: 症例配分割合（％） | D43: 0
C44: (9) プログラム名
...

Sheet 連携1
A1: 連携施設 概要と診療実績
A3: ※グレー部分は自動入力
A4: ※G列・H列は保護されているため入力いただけません（コピーペースト含む）
A6: (1) | B6: 施設の概要
A7: 1 | B7: 施設名
A8: 2 | B8: 所在地 | C8: 郵便番号
C9: 都道府県
C10: 郡市
C11: 区町村
C12: 町名・丁目・番地・号
C13: 建物名等
C14: 電話
C15: FAX
A16: 3 | B16: 都道府県コード（2桁）-医療機関コード （XX-XXXXXXX）
A17: 4 | B17: 専門研修指導医の数 ※
A18: ※専門研修指導医
A19: 泌尿器科学会指導医は自動的に専門研修指導医の基準を満たします。
A21: (2) | B21: プログラム参加数
A23: ・ | B23: 当該施設が複数のプログラムに参加する場合は、診療実績に関して本プログラムへ何%振り分けるかを決める必要があります。
B24: 按分については、連携する各プログラムに確認のうえ決定してください。
A25: ・ | B25: 按分は最低10%、5%刻みとしてください。
A26: ・ | B26: 本プログラムおよび本プログラム以外の合計が100%になる必要があります。
A27: 1 | B27: 本プログラムへの症例数の配分割合（％） | D27: 0
A28: 2 | B28: 【本プログラム以外に参加するプログラムがある場合のみ】 | C28: (1) プログラム名
B29: 本プログラム以外の参加プログラム名および症例配分割合 | C29: 症例配分割合（％） | D29: 0
C30: (2) プログラム名
C31: 症例配分割合（％） | D31: 0
C32: (3) プログラム名
C33: 症例配分割合（％） | D33: 0
C34: (4) プログラム名
C35: 症例配分割合（％） | D35: 0
C36: (5) プログラム名
C37: 症例配分割合（％） | D37: 0
C38: (6) プログラム名
C39: 症例配分割合（％） | D39: 0
C40: (7) プログラム名
C41: 症例配分割合（％） | D41: 0
C42: (8) プログラム名
C43: 症例配分割合（％） | D43: 0
C44: (9) プログラム名
...

Sheet 連携2
A1: 連携施設 概要と診療実績
A3: ※グレー部分は自動入力
A4: ※G列・H列は保護されているため入力いただけません（コピーペースト含む）
A6: (1) | B6: 施設の概要
A7: 1 | B7: 施設名
A8: 2 | B8: 所在地 | C8: 郵便番号
C9: 都道府県
C10: 郡市
C11: 区町村
C12: 町名・丁目・番地・号
C13: 建物名等
C14: 電話
C15: FAX
A16: 3 | B16: 都道府県コード（2桁）-医療機関コード （XX-XXXXXXX）
A17: 4 | B17: 専門研修指導医の数 ※
A18: ※専門研修指導医
A19: 泌尿器科学会指導医は自動的に専門研修指導医の基準を満たします。
A21: (2) | B21: プログラム参加数
A23: ・ | B23: 当該施設が複数のプログラムに参加する場合は、診療実績に関して本プログラムへ何%振り分けるかを決める必要があります。
B24: 按分については、連携する各プログラムに確認のうえ決定してください。
A25: ・ | B25: 按分は最低10%、5%刻みとしてください。
A26: ・ | B26: 本プログラムおよび本プログラム以外の合計が100%になる必要があります。
A27: 1 | B27: 本プログラムへの症例数の配分割合（％） | D27: 0
A28: 2 | B28: 【本プログラム以外に参加するプログラムがある場合のみ】 | C28: (1) プログラム名
B29: 本プログラム以外の参加プログラム名および症例配分割合 | C29: 症例配分割合（％） | D29: 0
C30: (2) プログラム名
C31: 症例配分割合（％） | D31: 0
C32: (3) プログラム名
C33: 症例配分割合（％） | D33: 0
C34: (4) プログラム名
C35: 症例配分割合（％） | D35: 0
C36: (5) プログラム名
C37: 症例配分割合（％） | D37: 0
C38: (6) プログラム名
C39: 症例配分割合（％） | D39: 0
C40: (7) プログラム名
C41: 症例配分割合（％） | D41: 0
C42: (8) プログラム名
C43: 症例配分割合（％） | D43: 0
C44: (9) プログラム名
...

Sheet 連携3
A1: 連携施設 概要と診療実績
A3: ※グレー部分は自動入力
A4: ※G列・H列は保護されているため入力いただけません（コピーペースト含む）
A6: (1) | B6: 施設の概要
A7: 1 | B7: 施設名
A8: 2 | B8: 所在地 | C8: 郵便番号
C9: 都道府県
C10: 郡市
C11: 区町村
C12: 町名・丁目・番地・号
C13: 建物名等
C14: 電話
C15: FAX
A16: 3 | B16: 都道府県コード（2桁）-医療機関コード （XX-XXXXXXX）
A17: 4 | B17: 専門研修指導医の数 ※
A18: ※専門研修指導医
A19: 泌尿器科学会指導医は自動的に専門研修指導医の基準を満たします。
A21: (2) | B21: プログラム参加数
A23: ・ | B23: 当該施設が複数のプログラムに参加する場合は、診療実績に関して本プログラムへ何%振り分けるかを決める必要があります。
B24: 按分については、連携する各プログラムに確認のうえ決定してください。
A25: ・ | B25: 按分は最低10%、5%刻みとしてください。
A26: ・ | B26: 本プログラムおよび本プログラム以外の合計が100%になる必要があります。
A27: 1 | B27: 本プログラムへの症例数の配分割合（％） | D27: 0
A28: 2 | B28: 【本プログラム以外に参加するプログラムがある場合のみ】 | C28: (1) プログラム名
B29: 本プログラム以外の参加プログラム名および症例配分割合 | C29: 症例配分割合（％） | D29: 0
C30: (2) プログラム名
C31: 症例配分割合（％） | D31: 0
C32: (3) プログラム名
C33: 症例配分割合（％） | D33: 0
C34: (4) プログラム名
C35: 症例配分割合（％） | D35: 0
C36: (5) プログラム名
C37: 症例配分割合（％） | D37: 0
C38: (6) プログラム名
C39: 症例配分割合（％） | D39: 0
C40: (7) プログラム名
C41: 症例配分割合（％） | D41: 0
C42: (8) プログラム名
C43: 症例配分割合（％） | D43: 0
C44: (9) プログラム名
...

Sheet 連携4
A1: 連携施設 概要と診療実績
A3: ※グレー部分は自動入力
A4: ※G列・H列は保護されているため入力いただけません（コピーペースト含む）
A6: (1) | B6: 施設の概要
A7: 1 | B7: 施設名
A8: 2 | B8: 所在地 | C8: 郵便番号
C9: 都道府県
C10: 郡市
C11: 区町村
C12: 町名・丁目・番地・号
C13: 建物名等
C14: 電話
C15: FAX
A16: 3 | B16: 都道府県コード（2桁）-医療機関コード （XX-XXXXXXX）
A17: 4 | B17: 専門研修指導医の数 ※
A18: ※専門研修指導医
A19: 泌尿器科学会指導医は自動的に専門研修指導医の基準を満たします。
A21: (2) | B21: プログラム参加数
A23: ・ | B23: 当該施設が複数のプログラムに参加する場合は、診療実績に関して本プログラムへ何%振り分けるかを決める必要があります。
B24: 按分については、連携する各プログラムに確認のうえ決定してください。
A25: ・ | B25: 按分は最低10%、5%刻みとしてください。
A26: ・ | B26: 本プログラムおよび本プログラム以外の合計が100%になる必要があります。
A27: 1 | B27: 本プログラムへの症例数の配分割合（％） | D27: 0
A28: 2 | B28: 【本プログラム以外に参加するプログラムがある場合のみ】 | C28: (1) プログラム名
B29: 本プログラム以外の参加プログラム名および症例配分割合 | C29: 症例配分割合（％） | D29: 0
C30: (2) プログラム名
C31: 症例配分割合（％） | D31: 0
C32: (3) プログラム名
C33: 症例配分割合（％） | D33: 0
C34: (4) プログラム名
C35: 症例配分割合（％） | D35: 0
C36: (5) プログラム名
C37: 症例配分割合（％） | D37: 0
C38: (6) プログラム名
C39: 症例配分割合（％） | D39: 0
C40: (7) プログラム名
C41: 症例配分割合（％） | D41: 0
C42: (8) プログラム名
C43: 症例配分割合（％） | D43: 0
C44: (9) プログラム名
...

Sheet 連携5
A1: 連携施設 概要と診療実績
A3: ※グレー部分は自動入力
A4: ※G列・H列は保護されているため入力いただけません（コピーペースト含む）
A6: (1) | B6: 施設の概要
A7: 1 | B7: 施設名
A8: 2 | B8: 所在地 | C8: 郵便番号
C9: 都道府県
C10: 郡市
C11: 区町村
C12: 町名・丁目・番地・号
C13: 建物名等
C14: 電話
C15: FAX
A16: 3 | B16: 都道府県コード（2桁）-医療機関コード （XX-XXXXXXX）
A17: 4 | B17: 専門研修指導医の数 ※
A18: ※専門研修指導医
A19: 泌尿器科学会指導医は自動的に専門研修指導医の基準を満たします。
A21: (2) | B21: プログラム参加数
A23: ・ | B23: 当該施設が複数のプログラムに参加する場合は、診療実績に関して本プログラムへ何%振り分けるかを決める必要があります。
B24: 按分については、連携する各プログラムに確認のうえ決定してください。
A25: ・ | B25: 按分は最低10%、5%刻みとしてください。
A26: ・ | B26: 本プログラムおよび本プログラム以外の合計が100%になる必要があります。
A27: 1 | B27: 本プログラムへの症例数の配分割合（％） | D27: 0
A28: 2 | B28: 【本プログラム以外に参加するプログラムがある場合のみ】 | C28: (1) プログラム名
B29: 本プログラム以外の参加プログラム名および症例配分割合 | C29: 症例配分割合（％） | D29: 0
C30: (2) プログラム名
C31: 症例配分割合（％） | D31: 0
C32: (3) プログラム名
C33: 症例配分割合（％） | D33: 0
C34: (4) プログラム名
C35: 症例配分割合（％） | D35: 0
C36: (5) プログラム名
C37: 症例配分割合（％） | D37: 0
C38: (6) プログラム名
C39: 症例配分割合（％） | D39: 0
C40: (7) プログラム名
C41: 症例配分割合（％） | D41: 0
C42: (8) プログラム名
C43: 症例配分割合（％） | D43: 0
C44: (9) プログラム名
...

Sheet 連携6
A1: 連携施設 概要と診療実績
A3: ※グレー部分は自動入力
A4: ※G列・H列は保護されているため入力いただけません（コピーペースト含む）
A6: (1) | B6: 施設の概要
A7: 1 | B7: 施設名
A8: 2 | B8: 所在地 | C8: 郵便番号
C9: 都道府県
C10: 郡市
C11: 区町村
C12: 町名・丁目・番地・号
C13: 建物名等
C14: 電話
C15: FAX
A16: 3 | B16: 都道府県コード（2桁）-医療機関コード （XX-XXXXXXX）
A17: 4 | B17: 専門研修指導医の数 ※
A18: ※専門研修指導医
A19: 泌尿器科学会指導医は自動的に専門研修指導医の基準を満たします。
A21: (2) | B21: プログラム参加数
A23: ・ | B23: 当該施設が複数のプログラムに参加する場合は、診療実績に関して本プログラムへ何%振り分けるかを決める必要があります。
B24: 按分については、連携する各プログラムに確認のうえ決定してください。
A25: ・ | B25: 按分は最低10%、5%刻みとしてください。
A26: ・ | B26: 本プログラムおよび本プログラム以外の合計が100%になる必要があります。
A27: 1 | B27: 本プログラムへの症例数の配分割合（％） | D27: 0
A28: 2 | B28: 【本プログラム以外に参加するプログラムがある場合のみ】 | C28: (1) プログラム名
B29: 本プログラム以外の参加プログラム名および症例配分割合 | C29: 症例配分割合（％） | D29: 0
C30: (2) プログラム名
C31: 症例配分割合（％） | D31: 0
C32: (3) プログラム名
C33: 症例配分割合（％） | D33: 0
C34: (4) プログラム名
C35: 症例配分割合（％） | D35: 0
C36: (5) プログラム名
C37: 症例配分割合（％） | D37: 0
C38: (6) プログラム名
C39: 症例配分割合（％） | D39: 0
C40: (7) プログラム名
C41: 症例配分割合（％） | D41: 0
C42: (8) プログラム名
C43: 症例配分割合（％） | D43: 0
C44: (9) プログラム名
...

Sheet 連携7
A1: 連携施設 概要と診療実績
A3: ※グレー部分は自動入力
A4: ※G列・H列は保護されているため入力いただけません（コピーペースト含む）
A6: (1) | B6: 施設の概要
A7: 1 | B7: 施設名
A8: 2 | B8: 所在地 | C8: 郵便番号
C9: 都道府県
C10: 郡市
C11: 区町村
C12: 町名・丁目・番地・号
C13: 建物名等
C14: 電話
C15: FAX
A16: 3 | B16: 都道府県コード（2桁）-医療機関コード （XX-XXXXXXX）
A17: 4 | B17: 専門研修指導医の数 ※
A18: ※専門研修指導医
A19: 泌尿器科学会指導医は自動的に専門研修指導医の基準を満たします。
A21: (2) | B21: プログラム参加数
A23: ・ | B23: 当該施設が複数のプログラムに参加する場合は、診療実績に関して本プログラムへ何%振り分けるかを決める必要があります。
B24: 按分については、連携する各プログラムに確認のうえ決定してください。
A25: ・ | B25: 按分は最低10%、5%刻みとしてください。
A26: ・ | B26: 本プログラムおよび本プログラム以外の合計が100%になる必要があります。
A27: 1 | B27: 本プログラムへの症例数の配分割合（％） | D27: 0
A28: 2 | B28: 【本プログラム以外に参加するプログラムがある場合のみ】 | C28: (1) プログラム名
B29: 本プログラム以外の参加プログラム名および症例配分割合 | C29: 症例配分割合（％） | D29: 0
C30: (2) プログラム名
C31: 症例配分割合（％） | D31: 0
C32: (3) プログラム名
C33: 症例配分割合（％） | D33: 0
C34: (4) プログラム名
C35: 症例配分割合（％） | D35: 0
C36: (5) プログラム名
C37: 症例配分割合（％） | D37: 0
C38: (6) プログラム名
C39: 症例配分割合（％） | D39: 0
C40: (7) プログラム名
C41: 症例配分割合（％） | D41: 0
C42: (8) プログラム名
C43: 症例配分割合（％） | D43: 0
C44: (9) プログラム名
...

Sheet 連携8
A1: 連携施設 概要と診療実績
A3: ※グレー部分は自動入力
A4: ※G列・H列は保護されているため入力いただけません（コピーペースト含む）
A6: (1) | B6: 施設の概要
A7: 1 | B7: 施設名
A8: 2 | B8: 所在地 | C8: 郵便番号
C9: 都道府県
C10: 郡市
C11: 区町村
C12: 町名・丁目・番地・号
C13: 建物名等
C14: 電話
C15: FAX
A16: 3 | B16: 都道府県コード（2桁）-医療機関コード （XX-XXXXXXX）
A17: 4 | B17: 専門研修指導医の数 ※
A18: ※専門研修指導医
A19: 泌尿器科学会指導医は自動的に専門研修指導医の基準を満たします。
A21: (2) | B21: プログラム参加数
A23: ・ | B23: 当該施設が複数のプログラムに参加する場合は、診療実績に関して本プログラムへ何%振り分けるかを決める必要があります。
B24: 按分については、連携する各プログラムに確認のうえ決定してください。
A25: ・ | B25: 按分は最低10%、5%刻みとしてください。
A26: ・ | B26: 本プログラムおよび本プログラム以外の合計が100%になる必要があります。
A27: 1 | B27: 本プログラムへの症例数の配分割合（％） | D27: 0
A28: 2 | B28: 【本プログラム以外に参加するプログラムがある場合のみ】 | C28: (1) プログラム名
B29: 本プログラム以外の参加プログラム名および症例配分割合 | C29: 症例配分割合（％） | D29: 0
C30: (2) プログラム名
C31: 症例配分割合（％） | D31: 0
C32: (3) プログラム名
C33: 症例配分割合（％） | D33: 0
C34: (4) プログラム名
C35: 症例配分割合（％） | D35: 0
C36: (5) プログラム名
C37: 症例配分割合（％） | D37: 0
C38: (6) プログラム名
C39: 症例配分割合（％） | D39: 0
C40: (7) プログラム名
C41: 症例配分割合（％） | D41: 0
C42: (8) プログラム名
C43: 症例配分割合（％） | D43: 0
C44: (9) プログラム名
...

Sheet 連携9
A1: 連携施設 概要と診療実績
A3: ※グレー部分は自動入力
A4: ※G列・H列は保護されているため入力いただけません（コピーペースト含む）
A6: (1) | B6: 施設の概要
A7: 1 | B7: 施設名
A8: 2 | B8: 所在地 | C8: 郵便番号
C9: 都道府県
C10: 郡市
C11: 区町村
C12: 町名・丁目・番地・号
C13: 建物名等
C14: 電話
C15: FAX
A16: 3 | B16: 都道府県コード（2桁）-医療機関コード （XX-XXXXXXX）
A17: 4 | B17: 専門研修指導医の数 ※
A18: ※専門研修指導医
A19: 泌尿器科学会指導医は自動的に専門研修指導医の基準を満たします。
A21: (2) | B21: プログラム参加数
A23: ・ | B23: 当該施設が複数のプログラムに参加する場合は、診療実績に関して本プログラムへ何%振り分けるかを決める必要があります。
B24: 按分については、連携する各プログラムに確認のうえ決定してください。
A25: ・ | B25: 按分は最低10%、5%刻みとしてください。
A26: ・ | B26: 本プログラムおよび本プログラム以外の合計が100%になる必要があります。
A27: 1 | B27: 本プログラムへの症例数の配分割合（％） | D27: 0
A28: 2 | B28: 【本プログラム以外に参加するプログラムがある場合のみ】 | C28: (1) プログラム名
B29: 本プログラム以外の参加プログラム名および症例配分割合 | C29: 症例配分割合（％） | D29: 0
C30: (2) プログラム名
C31: 症例配分割合（％） | D31: 0
C32: (3) プログラム名
C33: 症例配分割合（％） | D33: 0
C34: (4) プログラム名
C35: 症例配分割合（％） | D35: 0
C36: (5) プログラム名
C37: 症例配分割合（％） | D37: 0
C38: (6) プログラム名
C39: 症例配分割合（％） | D39: 0
C40: (7) プログラム名
C41: 症例配分割合（％） | D41: 0
C42: (8) プログラム名
C43: 症例配分割合（％） | D43: 0
C44: (9) プログラム名
...

Sheet 連携10
A1: 連携施設 概要と診療実績
A3: ※グレー部分は自動入力
A4: ※G列・H列は保護されているため入力いただけません（コピーペースト含む）
A6: (1) | B6: 施設の概要
A7: 1 | B7: 施設名
A8: 2 | B8: 所在地 | C8: 郵便番号
C9: 都道府県
C10: 郡市
C11: 区町村
C12: 町名・丁目・番地・号
C13: 建物名等
C14: 電話
C15: FAX
A16: 3 | B16: 都道府県コード（2桁）-医療機関コード （XX-XXXXXXX）
A17: 4 | B17: 専門研修指導医の数 ※
A18: ※専門研修指導医
A19: 泌尿器科学会指導医は自動的に専門研修指導医の基準を満たします。
A21: (2) | B21: プログラム参加数
A23: ・ | B23: 当該施設が複数のプログラムに参加する場合は、診療実績に関して本プログラムへ何%振り分けるかを決める必要があります。
B24: 按分については、連携する各プログラムに確認のうえ決定してください。
A25: ・ | B25: 按分は最低10%、5%刻みとしてください。
A26: ・ | B26: 本プログラムおよび本プログラム以外の合計が100%になる必要があります。
A27: 1 | B27: 本プログラムへの症例数の配分割合（％） | D27: 0
A28: 2 | B28: 【本プログラム以外に参加するプログラムがある場合のみ】 | C28: (1) プログラム名
B29: 本プログラム以外の参加プログラム名および症例配分割合 | C29: 症例配分割合（％） | D29: 0
C30: (2) プログラム名
C31: 症例配分割合（％） | D31: 0
C32: (3) プログラム名
C33: 症例配分割合（％） | D33: 0
C34: (4) プログラム名
C35: 症例配分割合（％） | D35: 0
C36: (5) プログラム名
C37: 症例配分割合（％） | D37: 0
C38: (6) プログラム名
C39: 症例配分割合（％） | D39: 0
C40: (7) プログラム名
C41: 症例配分割合（％） | D41: 0
C42: (8) プログラム名
C43: 症例配分割合（％） | D43: 0
C44: (9) プログラム名
...

Sheet 連携11
A1: 連携施設 概要と診療実績
A3: ※グレー部分は自動入力
A4: ※G列・H列は保護されているため入力いただけません（コピーペースト含む）
A6: (1) | B6: 施設の概要
A7: 1 | B7: 施設名
A8: 2 | B8: 所在地 | C8: 郵便番号
C9: 都道府県
C10: 郡市
C11: 区町村
C12: 町名・丁目・番地・号
C13: 建物名等
C14: 電話
C15: FAX
A16: 3 | B16: 都道府県コード（2桁）-医療機関コード （XX-XXXXXXX）
A17: 4 | B17: 専門研修指導医の数 ※
A18: ※専門研修指導医
A19: 泌尿器科学会指導医は自動的に専門研修指導医の基準を満たします。
A21: (2) | B21: プログラム参加数
A23: ・ | B23: 当該施設が複数のプログラムに参加する場合は、診療実績に関して本プログラムへ何%振り分けるかを決める必要があります。
B24: 按分については、連携する各プログラムに確認のうえ決定してください。
A25: ・ | B25: 按分は最低10%、5%刻みとしてください。
A26: ・ | B26: 本プログラムおよび本プログラム以外の合計が100%になる必要があります。
A27: 1 | B27: 本プログラムへの症例数の配分割合（％） | D27: 0
A28: 2 | B28: 【本プログラム以外に参加するプログラムがある場合のみ】 | C28: (1) プログラム名
B29: 本プログラム以外の参加プログラム名および症例配分割合 | C29: 症例配分割合（％） | D29: 0
C30: (2) プログラム名
C31: 症例配分割合（％） | D31: 0
C32: (3) プログラム名
C33: 症例配分割合（％） | D33: 0
C34: (4) プログラム名
C35: 症例配分割合（％） | D35: 0
C36: (5) プログラム名
C37: 症例配分割合（％） | D37: 0
C38: (6) プログラム名
C39: 症例配分割合（％） | D39: 0
C40: (7) プログラム名
C41: 症例配分割合（％） | D41: 0
C42: (8) プログラム名
C43: 症例配分割合（％） | D43: 0
C44: (9) プログラム名
...

Sheet 連携12
A1: 連携施設 概要と診療実績
A3: ※グレー部分は自動入力
A4: ※G列・H列は保護されているため入力いただけません（コピーペースト含む）
A6: (1) | B6: 施設の概要
A7: 1 | B7: 施設名
A8: 2 | B8: 所在地 | C8: 郵便番号
C9: 都道府県
C10: 郡市
C11: 区町村
C12: 町名・丁目・番地・号
C13: 建物名等
C14: 電話
C15: FAX
A16: 3 | B16: 都道府県コード（2桁）-医療機関コード （XX-XXXXXXX）
A17: 4 | B17: 専門研修指導医の数 ※
A18: ※専門研修指導医
A19: 泌尿器科学会指導医は自動的に専門研修指導医の基準を満たします。
A21: (2) | B21: プログラム参加数
A23: ・ | B23: 当該施設が複数のプログラムに参加する場合は、診療実績に関して本プログラムへ何%振り分けるかを決める必要があります。
B24: 按分については、連携する各プログラムに確認のうえ決定してください。
A25: ・ | B25: 按分は最低10%、5%刻みとしてください。
A26: ・ | B26: 本プログラムおよび本プログラム以外の合計が100%になる必要があります。
A27: 1 | B27: 本プログラムへの症例数の配分割合（％） | D27: 0
A28: 2 | B28: 【本プログラム以外に参加するプログラムがある場合のみ】 | C28: (1) プログラム名
B29: 本プログラム以外の参加プログラム名および症例配分割合 | C29: 症例配分割合（％） | D29: 0
C30: (2) プログラム名
C31: 症例配分割合（％） | D31: 0
C32: (3) プログラム名
C33: 症例配分割合（％） | D33: 0
C34: (4) プログラム名
C35: 症例配分割合（％） | D35: 0
C36: (5) プログラム名
C37: 症例配分割合（％） | D37: 0
C38: (6) プログラム名
C39: 症例配分割合（％） | D39: 0
C40: (7) プログラム名
C41: 症例配分割合（％） | D41: 0
C42: (8) プログラム名
C43: 症例配分割合（％） | D43: 0
C44: (9) プログラム名
...

Sheet 連携13
A1: 連携施設 概要と診療実績
A3: ※グレー部分は自動入力
A4: ※G列・H列は保護されているため入力いただけません（コピーペースト含む）
A6: (1) | B6: 施設の概要
A7: 1 | B7: 施設名
A8: 2 | B8: 所在地 | C8: 郵便番号
C9: 都道府県
C10: 郡市
C11: 区町村
C12: 町名・丁目・番地・号
C13: 建物名等
C14: 電話
C15: FAX
A16: 3 | B16: 都道府県コード（2桁）-医療機関コード （XX-XXXXXXX）
A17: 4 | B17: 専門研修指導医の数 ※
A18: ※専門研修指導医
A19: 泌尿器科学会指導医は自動的に専門研修指導医の基準を満たします。
A21: (2) | B21: プログラム参加数
A23: ・ | B23: 当該施設が複数のプログラムに参加する場合は、診療実績に関して本プログラムへ何%振り分けるかを決める必要があります。
B24: 按分については、連携する各プログラムに確認のうえ決定してください。
A25: ・ | B25: 按分は最低10%、5%刻みとしてください。
A26: ・ | B26: 本プログラムおよび本プログラム以外の合計が100%になる必要があります。
A27: 1 | B27: 本プログラムへの症例数の配分割合（％） | D27: 0
A28: 2 | B28: 【本プログラム以外に参加するプログラムがある場合のみ】 | C28: (1) プログラム名
B29: 本プログラム以外の参加プログラム名および症例配分割合 | C29: 症例配分割合（％） | D29: 0
C30: (2) プログラム名
C31: 症例配分割合（％） | D31: 0
C32: (3) プログラム名
C33: 症例配分割合（％） | D33: 0
C34: (4) プログラム名
C35: 症例配分割合（％） | D35: 0
C36: (5) プログラム名
C37: 症例配分割合（％） | D37: 0
C38: (6) プログラム名
C39: 症例配分割合（％） | D39: 0
C40: (7) プログラム名
C41: 症例配分割合（％） | D41: 0
C42: (8) プログラム名
C43: 症例配分割合（％） | D43: 0
C44: (9) プログラム名
...

Sheet 連携14
A1: 連携施設 概要と診療実績
A3: ※グレー部分は自動入力
A4: ※G列・H列は保護されているため入力いただけません（コピーペースト含む）
A6: (1) | B6: 施設の概要
A7: 1 | B7: 施設名
A8: 2 | B8: 所在地 | C8: 郵便番号
C9: 都道府県
C10: 郡市
C11: 区町村
C12: 町名・丁目・番地・号
C13: 建物名等
C14: 電話
C15: FAX
A16: 3 | B16: 都道府県コード（2桁）-医療機関コード （XX-XXXXXXX）
A17: 4 | B17: 専門研修指導医の数 ※
A18: ※専門研修指導医
A19: 泌尿器科学会指導医は自動的に専門研修指導医の基準を満たします。
A21: (2) | B21: プログラム参加数
A23: ・ | B23: 当該施設が複数のプログラムに参加する場合は、診療実績に関して本プログラムへ何%振り分けるかを決める必要があります。
B24: 按分については、連携する各プログラムに確認のうえ決定してください。
A25: ・ | B25: 按分は最低10%、5%刻みとしてください。
A26: ・ | B26: 本プログラムおよび本プログラム以外の合計が100%になる必要があります。
A27: 1 | B27: 本プログラムへの症例数の配分割合（％） | D27: 0
A28: 2 | B28: 【本プログラム以外に参加するプログラムがある場合のみ】 | C28: (1) プログラム名
B29: 本プログラム以外の参加プログラム名および症例配分割合 | C29: 症例配分割合（％） | D29: 0
C30: (2) プログラム名
C31: 症例配分割合（％） | D31: 0
C32: (3) プログラム名
C33: 症例配分割合（％） | D33: 0
C34: (4) プログラム名
C35: 症例配分割合（％） | D35: 0
C36: (5) プログラム名
C37: 症例配分割合（％） | D37: 0
C38: (6) プログラム名
C39: 症例配分割合（％） | D39: 0
C40: (7) プログラム名
C41: 症例配分割合（％） | D41: 0
C42: (8) プログラム名
C43: 症例配分割合（％） | D43: 0
C44: (9) プログラム名
...

Sheet 連携15
A1: 連携施設 概要と診療実績
A3: ※グレー部分は自動入力
A4: ※G列・H列は保護されているため入力いただけません（コピーペースト含む）
A6: (1) | B6: 施設の概要
A7: 1 | B7: 施設名
A8: 2 | B8: 所在地 | C8: 郵便番号
C9: 都道府県
C10: 郡市
C11: 区町村
C12: 町名・丁目・番地・号
C13: 建物名等
C14: 電話
C15: FAX
A16: 3 | B16: 都道府県コード（2桁）-医療機関コード （XX-XXXXXXX）
A17: 4 | B17: 専門研修指導医の数 ※
A18: ※専門研修指導医
A19: 泌尿器科学会指導医は自動的に専門研修指導医の基準を満たします。
A21: (2) | B21: プログラム参加数
A23: ・ | B23: 当該施設が複数のプログラムに参加する場合は、診療実績に関して本プログラムへ何%振り分けるかを決める必要があります。
B24: 按分については、連携する各プログラムに確認のうえ決定してください。
A25: ・ | B25: 按分は最低10%、5%刻みとしてください。
A26: ・ | B26: 本プログラムおよび本プログラム以外の合計が100%になる必要があります。
A27: 1 | B27: 本プログラムへの症例数の配分割合（％） | D27: 0
A28: 2 | B28: 【本プログラム以外に参加するプログラムがある場合のみ】 | C28: (1) プログラム名
B29: 本プログラム以外の参加プログラム名および症例配分割合 | C29: 症例配分割合（％） | D29: 0
C30: (2) プログラム名
C31: 症例配分割合（％） | D31: 0
C32: (3) プログラム名
C33: 症例配分割合（％） | D33: 0
C34: (4) プログラム名
C35: 症例配分割合（％） | D35: 0
C36: (5) プログラム名
C37: 症例配分割合（％） | D37: 0
C38: (6) プログラム名
C39: 症例配分割合（％） | D39: 0
C40: (7) プログラム名
C41: 症例配分割合（％） | D41: 0
C42: (8) プログラム名
C43: 症例配分割合（％） | D43: 0
C44: (9) プログラム名
...

Sheet 連携16
A1: 連携施設 概要と診療実績
A3: ※グレー部分は自動入力
A4: ※G列・H列は保護されているため入力いただけません（コピーペースト含む）
A6: (1) | B6: 施設の概要
A7: 1 | B7: 施設名
A8: 2 | B8: 所在地 | C8: 郵便番号
C9: 都道府県
C10: 郡市
C11: 区町村
C12: 町名・丁目・番地・号
C13: 建物名等
C14: 電話
C15: FAX
A16: 3 | B16: 都道府県コード（2桁）-医療機関コード （XX-XXXXXXX）
A17: 4 | B17: 専門研修指導医の数 ※
A18: ※専門研修指導医
A19: 泌尿器科学会指導医は自動的に専門研修指導医の基準を満たします。
A21: (2) | B21: プログラム参加数
A23: ・ | B23: 当該施設が複数のプログラムに参加する場合は、診療実績に関して本プログラムへ何%振り分けるかを決める必要があります。
B24: 按分については、連携する各プログラムに確認のうえ決定してください。
A25: ・ | B25: 按分は最低10%、5%刻みとしてください。
A26: ・ | B26: 本プログラムおよび本プログラム以外の合計が100%になる必要があります。
A27: 1 | B27: 本プログラムへの症例数の配分割合（％） | D27: 0
A28: 2 | B28: 【本プログラム以外に参加するプログラムがある場合のみ】 | C28: (1) プログラム名
B29: 本プログラム以外の参加プログラム名および症例配分割合 | C29: 症例配分割合（％） | D29: 0
C30: (2) プログラム名
C31: 症例配分割合（％） | D31: 0
C32: (3) プログラム名
C33: 症例配分割合（％） | D33: 0
C34: (4) プログラム名
C35: 症例配分割合（％） | D35: 0
C36: (5) プログラム名
C37: 症例配分割合（％） | D37: 0
C38: (6) プログラム名
C39: 症例配分割合（％） | D39: 0
C40: (7) プログラム名
C41: 症例配分割合（％） | D41: 0
C42: (8) プログラム名
C43: 症例配分割合（％） | D43: 0
C44: (9) プログラム名
...

Sheet 連携17
A1: 連携施設 概要と診療実績
A3: ※グレー部分は自動入力
A4: ※G列・H列は保護されているため入力いただけません（コピーペースト含む）
A6: (1) | B6: 施設の概要
A7: 1 | B7: 施設名
A8: 2 | B8: 所在地 | C8: 郵便番号
C9: 都道府県
C10: 郡市
C11: 区町村
C12: 町名・丁目・番地・号
C13: 建物名等
C14: 電話
C15: FAX
A16: 3 | B16: 都道府県コード（2桁）-医療機関コード （XX-XXXXXXX）
A17: 4 | B17: 専門研修指導医の数 ※
A18: ※専門研修指導医
A19: 泌尿器科学会指導医は自動的に専門研修指導医の基準を満たします。
A21: (2) | B21: プログラム参加数
A23: ・ | B23: 当該施設が複数のプログラムに参加する場合は、診療実績に関して本プログラムへ何%振り分けるかを決める必要があります。
B24: 按分については、連携する各プログラムに確認のうえ決定してください。
A25: ・ | B25: 按分は最低10%、5%刻みとしてください。
A26: ・ | B26: 本プログラムおよび本プログラム以外の合計が100%になる必要があります。
A27: 1 | B27: 本プログラムへの症例数の配分割合（％） | D27: 0
A28: 2 | B28: 【本プログラム以外に参加するプログラムがある場合のみ】 | C28: (1) プログラム名
B29: 本プログラム以外の参加プログラム名および症例配分割合 | C29: 症例配分割合（％） | D29: 0
C30: (2) プログラム名
C31: 症例配分割合（％） | D31: 0
C32: (3) プログラム名
C33: 症例配分割合（％） | D33: 0
C34: (4) プログラム名
C35: 症例配分割合（％） | D35: 0
C36: (5) プログラム名
C37: 症例配分割合（％） | D37: 0
C38: (6) プログラム名
C39: 症例配分割合（％） | D39: 0
C40: (7) プログラム名
C41: 症例配分割合（％） | D41: 0
C42: (8) プログラム名
C43: 症例配分割合（％） | D43: 0
C44: (9) プログラム名
...

Sheet 連携18
A1: 連携施設 概要と診療実績
A3: ※グレー部分は自動入力
A4: ※G列・H列は保護されているため入力いただけません（コピーペースト含む）
A6: (1) | B6: 施設の概要
A7: 1 | B7: 施設名
A8: 2 | B8: 所在地 | C8: 郵便番号
C9: 都道府県
C10: 郡市
C11: 区町村
C12: 町名・丁目・番地・号
C13: 建物名等
C14: 電話
C15: FAX
A16: 3 | B16: 都道府県コード（2桁）-医療機関コード （XX-XXXXXXX）
A17: 4 | B17: 専門研修指導医の数 ※
A18: ※専門研修指導医
A19: 泌尿器科学会指導医は自動的に専門研修指導医の基準を満たします。
A21: (2) | B21: プログラム参加数
A23: ・ | B23: 当該施設が複数のプログラムに参加する場合は、診療実績に関して本プログラムへ何%振り分けるかを決める必要があります。
B24: 按分については、連携する各プログラムに確認のうえ決定してください。
A25: ・ | B25: 按分は最低10%、5%刻みとしてください。
A26: ・ | B26: 本プログラムおよび本プログラム以外の合計が100%になる必要があります。
A27: 1 | B27: 本プログラムへの症例数の配分割合（％） | D27: 0
A28: 2 | B28: 【本プログラム以外に参加するプログラムがある場合のみ】 | C28: (1) プログラム名
B29: 本プログラム以外の参加プログラム名および症例配分割合 | C29: 症例配分割合（％） | D29: 0
C30: (2) プログラム名
C31: 症例配分割合（％） | D31: 0
C32: (3) プログラム名
C33: 症例配分割合（％） | D33: 0
C34: (4) プログラム名
C35: 症例配分割合（％） | D35: 0
C36: (5) プログラム名
C37: 症例配分割合（％） | D37: 0
C38: (6) プログラム名
C39: 症例配分割合（％） | D39: 0
C40: (7) プログラム名
C41: 症例配分割合（％） | D41: 0
C42: (8) プログラム名
C43: 症例配分割合（％） | D43: 0
C44: (9) プログラム名
...

Sheet 連携19
A1: 連携施設 概要と診療実績
A3: ※グレー部分は自動入力
A4: ※G列・H列は保護されているため入力いただけません（コピーペースト含む）
A6: (1) | B6: 施設の概要
A7: 1 | B7: 施設名
A8: 2 | B8: 所在地 | C8: 郵便番号
C9: 都道府県
C10: 郡市
C11: 区町村
C12: 町名・丁目・番地・号
C13: 建物名等
C14: 電話
C15: FAX
A16: 3 | B16: 都道府県コード（2桁）-医療機関コード （XX-XXXXXXX）
A17: 4 | B17: 専門研修指導医の数 ※
A18: ※専門研修指導医
A19: 泌尿器科学会指導医は自動的に専門研修指導医の基準を満たします。
A21: (2) | B21: プログラム参加数
A23: ・ | B23: 当該施設が複数のプログラムに参加する場合は、診療実績に関して本プログラムへ何%振り分けるかを決める必要があります。
B24: 按分については、連携する各プログラムに確認のうえ決定してください。
A25: ・ | B25: 按分は最低10%、5%刻みとしてください。
A26: ・ | B26: 本プログラムおよび本プログラム以外の合計が100%になる必要があります。
A27: 1 | B27: 本プログラムへの症例数の配分割合（％） | D27: 0
A28: 2 | B28: 【本プログラム以外に参加するプログラムがある場合のみ】 | C28: (1) プログラム名
B29: 本プログラム以外の参加プログラム名および症例配分割合 | C29: 症例配分割合（％） | D29: 0
C30: (2) プログラム名
C31: 症例配分割合（％） | D31: 0
C32: (3) プログラム名
C33: 症例配分割合（％） | D33: 0
C34: (4) プログラム名
C35: 症例配分割合（％） | D35: 0
C36: (5) プログラム名
C37: 症例配分割合（％） | D37: 0
C38: (6) プログラム名
C39: 症例配分割合（％） | D39: 0
C40: (7) プログラム名
C41: 症例配分割合（％） | D41: 0
C42: (8) プログラム名
C43: 症例配分割合（％） | D43: 0
C44: (9) プログラム名
...

Sheet 連携20
A1: 連携施設 概要と診療実績
A3: ※グレー部分は自動入力
A4: ※G列・H列は保護されているため入力いただけません（コピーペースト含む）
A6: (1) | B6: 施設の概要
A7: 1 | B7: 施設名
A8: 2 | B8: 所在地 | C8: 郵便番号
C9: 都道府県
C10: 郡市
C11: 区町村
C12: 町名・丁目・番地・号
C13: 建物名等
C14: 電話
C15: FAX
A16: 3 | B16: 都道府県コード（2桁）-医療機関コード （XX-XXXXXXX）
A17: 4 | B17: 専門研修指導医の数 ※
A18: ※専門研修指導医
A19: 泌尿器科学会指導医は自動的に専門研修指導医の基準を満たします。
A21: (2) | B21: プログラム参加数
A23: ・ | B23: 当該施設が複数のプログラムに参加する場合は、診療実績に関して本プログラムへ何%振り分けるかを決める必要があります。
B24: 按分については、連携する各プログラムに確認のうえ決定してください。
A25: ・ | B25: 按分は最低10%、5%刻みとしてください。
A26: ・ | B26: 本プログラムおよび本プログラム以外の合計が100%になる必要があります。
A27: 1 | B27: 本プログラムへの症例数の配分割合（％） | D27: 0
A28: 2 | B28: 【本プログラム以外に参加するプログラムがある場合のみ】 | C28: (1) プログラム名
B29: 本プログラム以外の参加プログラム名および症例配分割合 | C29: 症例配分割合（％） | D29: 0
C30: (2) プログラム名
C31: 症例配分割合（％） | D31: 0
C32: (3) プログラム名
C33: 症例配分割合（％） | D33: 0
C34: (4) プログラム名
C35: 症例配分割合（％） | D35: 0
C36: (5) プログラム名
C37: 症例配分割合（％） | D37: 0
C38: (6) プログラム名
C39: 症例配分割合（％） | D39: 0
C40: (7) プログラム名
C41: 症例配分割合（％） | D41: 0
C42: (8) プログラム名
C43: 症例配分割合（％） | D43: 0
C44: (9) プログラム名
...

Sheet 連携21
A1: 連携施設 概要と診療実績
A3: ※グレー部分は自動入力
A4: ※G列・H列は保護されているため入力いただけません（コピーペースト含む）
A6: (1) | B6: 施設の概要
A7: 1 | B7: 施設名
A8: 2 | B8: 所在地 | C8: 郵便番号
C9: 都道府県
C10: 郡市
C11: 区町村
C12: 町名・丁目・番地・号
C13: 建物名等
C14: 電話
C15: FAX
A16: 3 | B16: 都道府県コード（2桁）-医療機関コード （XX-XXXXXXX）
A17: 4 | B17: 専門研修指導医の数 ※
A18: ※専門研修指導医
A19: 泌尿器科学会指導医は自動的に専門研修指導医の基準を満たします。
A21: (2) | B21: プログラム参加数
A23: ・ | B23: 当該施設が複数のプログラムに参加する場合は、診療実績に関して本プログラムへ何%振り分けるかを決める必要があります。
B24: 按分については、連携する各プログラムに確認のうえ決定してください。
A25: ・ | B25: 按分は最低10%、5%刻みとしてください。
A26: ・ | B26: 本プログラムおよび本プログラム以外の合計が100%になる必要があります。
A27: 1 | B27: 本プログラムへの症例数の配分割合（％） | D27: 0
A28: 2 | B28: 【本プログラム以外に参加するプログラムがある場合のみ】 | C28: (1) プログラム名
B29: 本プログラム以外の参加プログラム名および症例配分割合 | C29: 症例配分割合（％） | D29: 0
C30: (2) プログラム名
C31: 症例配分割合（％） | D31: 0
C32: (3) プログラム名
C33: 症例配分割合（％） | D33: 0
C34: (4) プログラム名
C35: 症例配分割合（％） | D35: 0
C36: (5) プログラム名
C37: 症例配分割合（％） | D37: 0
C38: (6) プログラム名
C39: 症例配分割合（％） | D39: 0
C40: (7) プログラム名
C41: 症例配分割合（％） | D41: 0
C42: (8) プログラム名
C43: 症例配分割合（％） | D43: 0
C44: (9) プログラム名
...

Sheet 連携22
A1: 連携施設 概要と診療実績
A3: ※グレー部分は自動入力
A4: ※G列・H列は保護されているため入力いただけません（コピーペースト含む）
A6: (1) | B6: 施設の概要
A7: 1 | B7: 施設名
A8: 2 | B8: 所在地 | C8: 郵便番号
C9: 都道府県
C10: 郡市
C11: 区町村
C12: 町名・丁目・番地・号
C13: 建物名等
C14: 電話
C15: FAX
A16: 3 | B16: 都道府県コード（2桁）-医療機関コード （XX-XXXXXXX）
A17: 4 | B17: 専門研修指導医の数 ※
A18: ※専門研修指導医
A19: 泌尿器科学会指導医は自動的に専門研修指導医の基準を満たします。
A21: (2) | B21: プログラム参加数
A23: ・ | B23: 当該施設が複数のプログラムに参加する場合は、診療実績に関して本プログラムへ何%振り分けるかを決める必要があります。
B24: 按分については、連携する各プログラムに確認のうえ決定してください。
A25: ・ | B25: 按分は最低10%、5%刻みとしてください。
A26: ・ | B26: 本プログラムおよび本プログラム以外の合計が100%になる必要があります。
A27: 1 | B27: 本プログラムへの症例数の配分割合（％） | D27: 0
A28: 2 | B28: 【本プログラム以外に参加するプログラムがある場合のみ】 | C28: (1) プログラム名
B29: 本プログラム以外の参加プログラム名および症例配分割合 | C29: 症例配分割合（％） | D29: 0
C30: (2) プログラム名
C31: 症例配分割合（％） | D31: 0
C32: (3) プログラム名
C33: 症例配分割合（％） | D33: 0
C34: (4) プログラム名
C35: 症例配分割合（％） | D35: 0
C36: (5) プログラム名
C37: 症例配分割合（％） | D37: 0
C38: (6) プログラム名
C39: 症例配分割合（％） | D39: 0
C40: (7) プログラム名
C41: 症例配分割合（％） | D41: 0
C42: (8) プログラム名
C43: 症例配分割合（％） | D43: 0
C44: (9) プログラム名
...

Sheet 連携23
A1: 連携施設 概要と診療実績
A3: ※グレー部分は自動入力
A4: ※G列・H列は保護されているため入力いただけません（コピーペースト含む）
A6: (1) | B6: 施設の概要
A7: 1 | B7: 施設名
A8: 2 | B8: 所在地 | C8: 郵便番号
C9: 都道府県
C10: 郡市
C11: 区町村
C12: 町名・丁目・番地・号
C13: 建物名等
C14: 電話
C15: FAX
A16: 3 | B16: 都道府県コード（2桁）-医療機関コード （XX-XXXXXXX）
A17: 4 | B17: 専門研修指導医の数 ※
A18: ※専門研修指導医
A19: 泌尿器科学会指導医は自動的に専門研修指導医の基準を満たします。
A21: (2) | B21: プログラム参加数
A23: ・ | B23: 当該施設が複数のプログラムに参加する場合は、診療実績に関して本プログラムへ何%振り分けるかを決める必要があります。
B24: 按分については、連携する各プログラムに確認のうえ決定してください。
A25: ・ | B25: 按分は最低10%、5%刻みとしてください。
A26: ・ | B26: 本プログラムおよび本プログラム以外の合計が100%になる必要があります。
A27: 1 | B27: 本プログラムへの症例数の配分割合（％） | D27: 0
A28: 2 | B28: 【本プログラム以外に参加するプログラムがある場合のみ】 | C28: (1) プログラム名
B29: 本プログラム以外の参加プログラム名および症例配分割合 | C29: 症例配分割合（％） | D29: 0
C30: (2) プログラム名
C31: 症例配分割合（％） | D31: 0
C32: (3) プログラム名
C33: 症例配分割合（％） | D33: 0
C34: (4) プログラム名
C35: 症例配分割合（％） | D35: 0
C36: (5) プログラム名
C37: 症例配分割合（％） | D37: 0
C38: (6) プログラム名
C39: 症例配分割合（％） | D39: 0
C40: (7) プログラム名
C41: 症例配分割合（％） | D41: 0
C42: (8) プログラム名
C43: 症例配分割合（％） | D43: 0
C44: (9) プログラム名
...

Sheet 連携24
A1: 連携施設 概要と診療実績
A3: ※グレー部分は自動入力
A4: ※G列・H列は保護されているため入力いただけません（コピーペースト含む）
A6: (1) | B6: 施設の概要
A7: 1 | B7: 施設名
A8: 2 | B8: 所在地 | C8: 郵便番号
C9: 都道府県
C10: 郡市
C11: 区町村
C12: 町名・丁目・番地・号
C13: 建物名等
C14: 電話
C15: FAX
A16: 3 | B16: 都道府県コード（2桁）-医療機関コード （XX-XXXXXXX）
A17: 4 | B17: 専門研修指導医の数 ※
A18: ※専門研修指導医
A19: 泌尿器科学会指導医は自動的に専門研修指導医の基準を満たします。
A21: (2) | B21: プログラム参加数
A23: ・ | B23: 当該施設が複数のプログラムに参加する場合は、診療実績に関して本プログラムへ何%振り分けるかを決める必要があります。
B24: 按分については、連携する各プログラムに確認のうえ決定してください。
A25: ・ | B25: 按分は最低10%、5%刻みとしてください。
A26: ・ | B26: 本プログラムおよび本プログラム以外の合計が100%になる必要があります。
A27: 1 | B27: 本プログラムへの症例数の配分割合（％） | D27: 0
A28: 2 | B28: 【本プログラム以外に参加するプログラムがある場合のみ】 | C28: (1) プログラム名
B29: 本プログラム以外の参加プログラム名および症例配分割合 | C29: 症例配分割合（％） | D29: 0
C30: (2) プログラム名
C31: 症例配分割合（％） | D31: 0
C32: (3) プログラム名
C33: 症例配分割合（％） | D33: 0
C34: (4) プログラム名
C35: 症例配分割合（％） | D35: 0
C36: (5) プログラム名
C37: 症例配分割合（％） | D37: 0
C38: (6) プログラム名
C39: 症例配分割合（％） | D39: 0
C40: (7) プログラム名
C41: 症例配分割合（％） | D41: 0
C42: (8) プログラム名
C43: 症例配分割合（％） | D43: 0
C44: (9) プログラム名
...

Sheet 連携25
A1: 連携施設 概要と診療実績
A3: ※グレー部分は自動入力
A4: ※G列・H列は保護されているため入力いただけません（コピーペースト含む）
A6: (1) | B6: 施設の概要
A7: 1 | B7: 施設名
A8: 2 | B8: 所在地 | C8: 郵便番号
C9: 都道府県
C10: 郡市
C11: 区町村
C12: 町名・丁目・番地・号
C13: 建物名等
C14: 電話
C15: FAX
A16: 3 | B16: 都道府県コード（2桁）-医療機関コード （XX-XXXXXXX）
A17: 4 | B17: 専門研修指導医の数 ※
A18: ※専門研修指導医
A19: 泌尿器科学会指導医は自動的に専門研修指導医の基準を満たします。
A21: (2) | B21: プログラム参加数
A23: ・ | B23: 当該施設が複数のプログラムに参加する場合は、診療実績に関して本プログラムへ何%振り分けるかを決める必要があります。
B24: 按分については、連携する各プログラムに確認のうえ決定してください。
A25: ・ | B25: 按分は最低10%、5%刻みとしてください。
A26: ・ | B26: 本プログラムおよび本プログラム以外の合計が100%になる必要があります。
A27: 1 | B27: 本プログラムへの症例数の配分割合（％） | D27: 0
A28: 2 | B28: 【本プログラム以外に参加するプログラムがある場合のみ】 | C28: (1) プログラム名
B29: 本プログラム以外の参加プログラム名および症例配分割合 | C29: 症例配分割合（％） | D29: 0
C30: (2) プログラム名
C31: 症例配分割合（％） | D31: 0
C32: (3) プログラム名
C33: 症例配分割合（％） | D33: 0
C34: (4) プログラム名
C35: 症例配分割合（％） | D35: 0
C36: (5) プログラム名
C37: 症例配分割合（％） | D37: 0
C38: (6) プログラム名
C39: 症例配分割合（％） | D39: 0
C40: (7) プログラム名
C41: 症例配分割合（％） | D41: 0
C42: (8) プログラム名
C43: 症例配分割合（％） | D43: 0
C44: (9) プログラム名
...

Sheet 連携26
A1: 連携施設 概要と診療実績
A3: ※グレー部分は自動入力
A4: ※G列・H列は保護されているため入力いただけません（コピーペースト含む）
A6: (1) | B6: 施設の概要
A7: 1 | B7: 施設名
A8: 2 | B8: 所在地 | C8: 郵便番号
C9: 都道府県
C10: 郡市
C11: 区町村
C12: 町名・丁目・番地・号
C13: 建物名等
C14: 電話
C15: FAX
A16: 3 | B16: 都道府県コード（2桁）-医療機関コード （XX-XXXXXXX）
A17: 4 | B17: 専門研修指導医の数 ※
A18: ※専門研修指導医
A19: 泌尿器科学会指導医は自動的に専門研修指導医の基準を満たします。
A21: (2) | B21: プログラム参加数
A23: ・ | B23: 当該施設が複数のプログラムに参加する場合は、診療実績に関して本プログラムへ何%振り分けるかを決める必要があります。
B24: 按分については、連携する各プログラムに確認のうえ決定してください。
A25: ・ | B25: 按分は最低10%、5%刻みとしてください。
A26: ・ | B26: 本プログラムおよび本プログラム以外の合計が100%になる必要があります。
A27: 1 | B27: 本プログラムへの症例数の配分割合（％） | D27: 0
A28: 2 | B28: 【本プログラム以外に参加するプログラムがある場合のみ】 | C28: (1) プログラム名
B29: 本プログラム以外の参加プログラム名および症例配分割合 | C29: 症例配分割合（％） | D29: 0
C30: (2) プログラム名
C31: 症例配分割合（％） | D31: 0
C32: (3) プログラム名
C33: 症例配分割合（％） | D33: 0
C34: (4) プログラム名
C35: 症例配分割合（％） | D35: 0
C36: (5) プログラム名
C37: 症例配分割合（％） | D37: 0
C38: (6) プログラム名
C39: 症例配分割合（％） | D39: 0
C40: (7) プログラム名
C41: 症例配分割合（％） | D41: 0
C42: (8) プログラム名
C43: 症例配分割合（％） | D43: 0
C44: (9) プログラム名
...

Sheet 連携27
A1: 連携施設 概要と診療実績
A3: ※グレー部分は自動入力
A4: ※G列・H列は保護されているため入力いただけません（コピーペースト含む）
A6: (1) | B6: 施設の概要
A7: 1 | B7: 施設名
A8: 2 | B8: 所在地 | C8: 郵便番号
C9: 都道府県
C10: 郡市
C11: 区町村
C12: 町名・丁目・番地・号
C13: 建物名等
C14: 電話
C15: FAX
A16: 3 | B16: 都道府県コード（2桁）-医療機関コード （XX-XXXXXXX）
A17: 4 | B17: 専門研修指導医の数 ※
A18: ※専門研修指導医
A19: 泌尿器科学会指導医は自動的に専門研修指導医の基準を満たします。
A21: (2) | B21: プログラム参加数
A23: ・ | B23: 当該施設が複数のプログラムに参加する場合は、診療実績に関して本プログラムへ何%振り分けるかを決める必要があります。
B24: 按分については、連携する各プログラムに確認のうえ決定してください。
A25: ・ | B25: 按分は最低10%、5%刻みとしてください。
A26: ・ | B26: 本プログラムおよび本プログラム以外の合計が100%になる必要があります。
A27: 1 | B27: 本プログラムへの症例数の配分割合（％） | D27: 0
A28: 2 | B28: 【本プログラム以外に参加するプログラムがある場合のみ】 | C28: (1) プログラム名
B29: 本プログラム以外の参加プログラム名および症例配分割合 | C29: 症例配分割合（％） | D29: 0
C30: (2) プログラム名
C31: 症例配分割合（％） | D31: 0
C32: (3) プログラム名
C33: 症例配分割合（％） | D33: 0
C34: (4) プログラム名
C35: 症例配分割合（％） | D35: 0
C36: (5) プログラム名
C37: 症例配分割合（％） | D37: 0
C38: (6) プログラム名
C39: 症例配分割合（％） | D39: 0
C40: (7) プログラム名
C41: 症例配分割合（％） | D41: 0
C42: (8) プログラム名
C43: 症例配分割合（％） | D43: 0
C44: (9) プログラム名
...

Sheet 連携28
A1: 連携施設 概要と診療実績
A3: ※グレー部分は自動入力
A4: ※G列・H列は保護されているため入力いただけません（コピーペースト含む）
A6: (1) | B6: 施設の概要
A7: 1 | B7: 施設名
A8: 2 | B8: 所在地 | C8: 郵便番号
C9: 都道府県
C10: 郡市
C11: 区町村
C12: 町名・丁目・番地・号
C13: 建物名等
C14: 電話
C15: FAX
A16: 3 | B16: 都道府県コード（2桁）-医療機関コード （XX-XXXXXXX）
A17: 4 | B17: 専門研修指導医の数 ※
A18: ※専門研修指導医
A19: 泌尿器科学会指導医は自動的に専門研修指導医の基準を満たします。
A21: (2) | B21: プログラム参加数
A23: ・ | B23: 当該施設が複数のプログラムに参加する場合は、診療実績に関して本プログラムへ何%振り分けるかを決める必要があります。
B24: 按分については、連携する各プログラムに確認のうえ決定してください。
A25: ・ | B25: 按分は最低10%、5%刻みとしてください。
A26: ・ | B26: 本プログラムおよび本プログラム以外の合計が100%になる必要があります。
A27: 1 | B27: 本プログラムへの症例数の配分割合（％） | D27: 0
A28: 2 | B28: 【本プログラム以外に参加するプログラムがある場合のみ】 | C28: (1) プログラム名
B29: 本プログラム以外の参加プログラム名および症例配分割合 | C29: 症例配分割合（％） | D29: 0
C30: (2) プログラム名
C31: 症例配分割合（％） | D31: 0
C32: (3) プログラム名
C33: 症例配分割合（％） | D33: 0
C34: (4) プログラム名
C35: 症例配分割合（％） | D35: 0
C36: (5) プログラム名
C37: 症例配分割合（％） | D37: 0
C38: (6) プログラム名
C39: 症例配分割合（％） | D39: 0
C40: (7) プログラム名
C41: 症例配分割合（％） | D41: 0
C42: (8) プログラム名
C43: 症例配分割合（％） | D43: 0
C44: (9) プログラム名
...

Sheet 連携29
A1: 連携施設 概要と診療実績
A3: ※グレー部分は自動入力
A4: ※G列・H列は保護されているため入力いただけません（コピーペースト含む）
A6: (1) | B6: 施設の概要
A7: 1 | B7: 施設名
A8: 2 | B8: 所在地 | C8: 郵便番号
C9: 都道府県
C10: 郡市
C11: 区町村
C12: 町名・丁目・番地・号
C13: 建物名等
C14: 電話
C15: FAX
A16: 3 | B16: 都道府県コード（2桁）-医療機関コード （XX-XXXXXXX）
A17: 4 | B17: 専門研修指導医の数 ※
A18: ※専門研修指導医
A19: 泌尿器科学会指導医は自動的に専門研修指導医の基準を満たします。
A21: (2) | B21: プログラム参加数
A23: ・ | B23: 当該施設が複数のプログラムに参加する場合は、診療実績に関して本プログラムへ何%振り分けるかを決める必要があります。
B24: 按分については、連携する各プログラムに確認のうえ決定してください。
A25: ・ | B25: 按分は最低10%、5%刻みとしてください。
A26: ・ | B26: 本プログラムおよび本プログラム以外の合計が100%になる必要があります。
A27: 1 | B27: 本プログラムへの症例数の配分割合（％） | D27: 0
A28: 2 | B28: 【本プログラム以外に参加するプログラムがある場合のみ】 | C28: (1) プログラム名
B29: 本プログラム以外の参加プログラム名および症例配分割合 | C29: 症例配分割合（％） | D29: 0
C30: (2) プログラム名
C31: 症例配分割合（％） | D31: 0
C32: (3) プログラム名
C33: 症例配分割合（％） | D33: 0
C34: (4) プログラム名
C35: 症例配分割合（％） | D35: 0
C36: (5) プログラム名
C37: 症例配分割合（％） | D37: 0
C38: (6) プログラム名
C39: 症例配分割合（％） | D39: 0
C40: (7) プログラム名
C41: 症例配分割合（％） | D41: 0
C42: (8) プログラム名
C43: 症例配分割合（％） | D43: 0
C44: (9) プログラム名
...

Sheet 連携30
A1: 連携施設 概要と診療実績
A3: ※グレー部分は自動入力
A4: ※G列・H列は保護されているため入力いただけません（コピーペースト含む）
A6: (1) | B6: 施設の概要
A7: 1 | B7: 施設名
A8: 2 | B8: 所在地 | C8: 郵便番号
C9: 都道府県
C10: 郡市
C11: 区町村
C12: 町名・丁目・番地・号
C13: 建物名等
C14: 電話
C15: FAX
A16: 3 | B16: 都道府県コード（2桁）-医療機関コード （XX-XXXXXXX）
A17: 4 | B17: 専門研修指導医の数 ※
A18: ※専門研修指導医
A19: 泌尿器科学会指導医は自動的に専門研修指導医の基準を満たします。
A21: (2) | B21: プログラム参加数
A23: ・ | B23: 当該施設が複数のプログラムに参加する場合は、診療実績に関して本プログラムへ何%振り分けるかを決める必要があります。
B24: 按分については、連携する各プログラムに確認のうえ決定してください。
A25: ・ | B25: 按分は最低10%、5%刻みとしてください。
A26: ・ | B26: 本プログラムおよび本プログラム以外の合計が100%になる必要があります。
A27: 1 | B27: 本プログラムへの症例数の配分割合（％） | D27: 0
A28: 2 | B28: 【本プログラム以外に参加するプログラムがある場合のみ】 | C28: (1) プログラム名
B29: 本プログラム以外の参加プログラム名および症例配分割合 | C29: 症例配分割合（％） | D29: 0
C30: (2) プログラム名
C31: 症例配分割合（％） | D31: 0
C32: (3) プログラム名
C33: 症例配分割合（％） | D33: 0
C34: (4) プログラム名
C35: 症例配分割合（％） | D35: 0
C36: (5) プログラム名
C37: 症例配分割合（％） | D37: 0
C38: (6) プログラム名
C39: 症例配分割合（％） | D39: 0
C40: (7) プログラム名
C41: 症例配分割合（％） | D41: 0
C42: (8) プログラム名
C43: 症例配分割合（％） | D43: 0
C44: (9) プログラム名
...

Sheet 連携31
A1: 連携施設 概要と診療実績
A3: ※グレー部分は自動入力
A4: ※G列・H列は保護されているため入力いただけません（コピーペースト含む）
A6: (1) | B6: 施設の概要
A7: 1 | B7: 施設名
A8: 2 | B8: 所在地 | C8: 郵便番号
C9: 都道府県
C10: 郡市
C11: 区町村
C12: 町名・丁目・番地・号
C13: 建物名等
C14: 電話
C15: FAX
A16: 3 | B16: 都道府県コード（2桁）-医療機関コード （XX-XXXXXXX）
A17: 4 | B17: 専門研修指導医の数 ※
A18: ※専門研修指導医
A19: 泌尿器科学会指導医は自動的に専門研修指導医の基準を満たします。
A21: (2) | B21: プログラム参加数
A23: ・ | B23: 当該施設が複数のプログラムに参加する場合は、診療実績に関して本プログラムへ何%振り分けるかを決める必要があります。
B24: 按分については、連携する各プログラムに確認のうえ決定してください。
A25: ・ | B25: 按分は最低10%、5%刻みとしてください。
A26: ・ | B26: 本プログラムおよび本プログラム以外の合計が100%になる必要があります。
A27: 1 | B27: 本プログラムへの症例数の配分割合（％） | D27: 0
A28: 2 | B28: 【本プログラム以外に参加するプログラムがある場合のみ】 | C28: (1) プログラム名
B29: 本プログラム以外の参加プログラム名および症例配分割合 | C29: 症例配分割合（％） | D29: 0
C30: (2) プログラム名
C31: 症例配分割合（％） | D31: 0
C32: (3) プログラム名
C33: 症例配分割合（％） | D33: 0
C34: (4) プログラム名
C35: 症例配分割合（％） | D35: 0
C36: (5) プログラム名
C37: 症例配分割合（％） | D37: 0
C38: (6) プログラム名
C39: 症例配分割合（％） | D39: 0
C40: (7) プログラム名
C41: 症例配分割合（％） | D41: 0
C42: (8) プログラム名
C43: 症例配分割合（％） | D43: 0
C44: (9) プログラム名
...

Sheet 連携32
A1: 連携施設 概要と診療実績
A3: ※グレー部分は自動入力
A4: ※G列・H列は保護されているため入力いただけません（コピーペースト含む）
A6: (1) | B6: 施設の概要
A7: 1 | B7: 施設名
A8: 2 | B8: 所在地 | C8: 郵便番号
C9: 都道府県
C10: 郡市
C11: 区町村
C12: 町名・丁目・番地・号
C13: 建物名等
C14: 電話
C15: FAX
A16: 3 | B16: 都道府県コード（2桁）-医療機関コード （XX-XXXXXXX）
A17: 4 | B17: 専門研修指導医の数 ※
A18: ※専門研修指導医
A19: 泌尿器科学会指導医は自動的に専門研修指導医の基準を満たします。
A21: (2) | B21: プログラム参加数
A23: ・ | B23: 当該施設が複数のプログラムに参加する場合は、診療実績に関して本プログラムへ何%振り分けるかを決める必要があります。
B24: 按分については、連携する各プログラムに確認のうえ決定してください。
A25: ・ | B25: 按分は最低10%、5%刻みとしてください。
A26: ・ | B26: 本プログラムおよび本プログラム以外の合計が100%になる必要があります。
A27: 1 | B27: 本プログラムへの症例数の配分割合（％） | D27: 0
A28: 2 | B28: 【本プログラム以外に参加するプログラムがある場合のみ】 | C28: (1) プログラム名
B29: 本プログラム以外の参加プログラム名および症例配分割合 | C29: 症例配分割合（％） | D29: 0
C30: (2) プログラム名
C31: 症例配分割合（％） | D31: 0
C32: (3) プログラム名
C33: 症例配分割合（％） | D33: 0
C34: (4) プログラム名
C35: 症例配分割合（％） | D35: 0
C36: (5) プログラム名
C37: 症例配分割合（％） | D37: 0
C38: (6) プログラム名
C39: 症例配分割合（％） | D39: 0
C40: (7) プログラム名
C41: 症例配分割合（％） | D41: 0
C42: (8) プログラム名
C43: 症例配分割合（％） | D43: 0
C44: (9) プログラム名
...

Sheet 連携33
A1: 連携施設 概要と診療実績
A3: ※グレー部分は自動入力
A4: ※G列・H列は保護されているため入力いただけません（コピーペースト含む）
A6: (1) | B6: 施設の概要
A7: 1 | B7: 施設名
A8: 2 | B8: 所在地 | C8: 郵便番号
C9: 都道府県
C10: 郡市
C11: 区町村
C12: 町名・丁目・番地・号
C13: 建物名等
C14: 電話
C15: FAX
A16: 3 | B16: 都道府県コード（2桁）-医療機関コード （XX-XXXXXXX）
A17: 4 | B17: 専門研修指導医の数 ※
A18: ※専門研修指導医
A19: 泌尿器科学会指導医は自動的に専門研修指導医の基準を満たします。
A21: (2) | B21: プログラム参加数
A23: ・ | B23: 当該施設が複数のプログラムに参加する場合は、診療実績に関して本プログラムへ何%振り分けるかを決める必要があります。
B24: 按分については、連携する各プログラムに確認のうえ決定してください。
A25: ・ | B25: 按分は最低10%、5%刻みとしてください。
A26: ・ | B26: 本プログラムおよび本プログラム以外の合計が100%になる必要があります。
A27: 1 | B27: 本プログラムへの症例数の配分割合（％） | D27: 0
A28: 2 | B28: 【本プログラム以外に参加するプログラムがある場合のみ】 | C28: (1) プログラム名
B29: 本プログラム以外の参加プログラム名および症例配分割合 | C29: 症例配分割合（％） | D29: 0
C30: (2) プログラム名
C31: 症例配分割合（％） | D31: 0
C32: (3) プログラム名
C33: 症例配分割合（％） | D33: 0
C34: (4) プログラム名
C35: 症例配分割合（％） | D35: 0
C36: (5) プログラム名
C37: 症例配分割合（％） | D37: 0
C38: (6) プログラム名
C39: 症例配分割合（％） | D39: 0
C40: (7) プログラム名
C41: 症例配分割合（％） | D41: 0
C42: (8) プログラム名
C43: 症例配分割合（％） | D43: 0
C44: (9) プログラム名
...

Sheet 連携34
A1: 連携施設 概要と診療実績
A3: ※グレー部分は自動入力
A4: ※G列・H列は保護されているため入力いただけません（コピーペースト含む）
A6: (1) | B6: 施設の概要
A7: 1 | B7: 施設名
A8: 2 | B8: 所在地 | C8: 郵便番号
C9: 都道府県
C10: 郡市
C11: 区町村
C12: 町名・丁目・番地・号
C13: 建物名等
C14: 電話
C15: FAX
A16: 3 | B16: 都道府県コード（2桁）-医療機関コード （XX-XXXXXXX）
A17: 4 | B17: 専門研修指導医の数 ※
A18: ※専門研修指導医
A19: 泌尿器科学会指導医は自動的に専門研修指導医の基準を満たします。
A21: (2) | B21: プログラム参加数
A23: ・ | B23: 当該施設が複数のプログラムに参加する場合は、診療実績に関して本プログラムへ何%振り分けるかを決める必要があります。
B24: 按分については、連携する各プログラムに確認のうえ決定してください。
A25: ・ | B25: 按分は最低10%、5%刻みとしてください。
A26: ・ | B26: 本プログラムおよび本プログラム以外の合計が100%になる必要があります。
A27: 1 | B27: 本プログラムへの症例数の配分割合（％） | D27: 0
A28: 2 | B28: 【本プログラム以外に参加するプログラムがある場合のみ】 | C28: (1) プログラム名
B29: 本プログラム以外の参加プログラム名および症例配分割合 | C29: 症例配分割合（％） | D29: 0
C30: (2) プログラム名
C31: 症例配分割合（％） | D31: 0
C32: (3) プログラム名
C33: 症例配分割合（％） | D33: 0
C34: (4) プログラム名
C35: 症例配分割合（％） | D35: 0
C36: (5) プログラム名
C37: 症例配分割合（％） | D37: 0
C38: (6) プログラム名
C39: 症例配分割合（％） | D39: 0
C40: (7) プログラム名
C41: 症例配分割合（％） | D41: 0
C42: (8) プログラム名
C43: 症例配分割合（％） | D43: 0
C44: (9) プログラム名
...

Sheet 連携35
A1: 連携施設 概要と診療実績
A3: ※グレー部分は自動入力
A4: ※G列・H列は保護されているため入力いただけません（コピーペースト含む）
A6: (1) | B6: 施設の概要
A7: 1 | B7: 施設名
A8: 2 | B8: 所在地 | C8: 郵便番号
C9: 都道府県
C10: 郡市
C11: 区町村
